BEGIN:VCALENDAR
VERSION:2.0
PRODID:-//Sujet Verlag - ECPv5.14.1//NONSGML v1.0//EN
CALSCALE:GREGORIAN
METHOD:PUBLISH
X-WR-CALNAME:Sujet Verlag
X-ORIGINAL-URL:https://sujetverlag.de
X-WR-CALDESC:Veranstaltungen für Sujet Verlag
REFRESH-INTERVAL;VALUE=DURATION:PT1H
X-Robots-Tag:noindex
X-PUBLISHED-TTL:PT1H
BEGIN:VTIMEZONE
TZID:Europe/Berlin
BEGIN:DAYLIGHT
TZOFFSETFROM:+0100
TZOFFSETTO:+0200
TZNAME:CEST
DTSTART:20260329T010000
END:DAYLIGHT
BEGIN:STANDARD
TZOFFSETFROM:+0200
TZOFFSETTO:+0100
TZNAME:CET
DTSTART:20261025T010000
END:STANDARD
END:VTIMEZONE
BEGIN:VEVENT
DTSTART;TZID=Europe/Berlin:20260429T190000
DTEND;TZID=Europe/Berlin:20260429T210000
DTSTAMP:20260424T005548
CREATED:20260318T112649Z
LAST-MODIFIED:20260318T112649Z
UID:21245-1777489200-1777496400@sujetverlag.de
SUMMARY:Bremer Buchpremiere Martin Bührig - "Symbolon": Lyrische Lesung mit Musik und Gespräch
DESCRIPTION:Mittwoch\, 29. April 2026 um 19Uhr \nHaus im Park\, Züricher Str. 40\, Bremen \n \nDer Sujet Verlag lädt gemeinsam mit Kulturambulanz und Literaturhaus Bremen zur Bremer BuchPremiere des neuen Lyrikbandes „Symbolon” von Martin Bührig ein. \nIm Mittelpunkt des Abends stehen zwei Lyrikbänder\, die sich auf unterschiedlicher Weise mit Fragen von Gegenwart\, Erinnerung und Identität auseinandersetzen. Martin Bührig stellt sein neues Lyrikband „Symbolon” (2026) vor und kommt darüber gemeinsam mit der Autorin Inge Buck mit ihrem aktuellen Lyrikband „Das Geheimnis der Taube“ (2025) zusammen. \n \nDer Titel „Symbolon” greift ein Motiv aus der Antike auf: ein zerbrochenes Erkennungsstück desse Bedeutung sich erst im Zusammenfügen erschließt. Ausgehend von diesem Bild entfaltet Bührig eine poetische Reflexion über Zugehörigkeit\, Begegnung und Identität. Seine Lyrik ist naturverbunden\, feinfühlig und zugleich fest in der Gegenwart verankert. \nInge Bucks Lyrikband „Das Geheimnis der Taube“ bewegt sich im Spannungsfeld zwischen der Poesie des Alltäglichen und den globalen Konflikten unserer Zeit. Ihre Texte verbinden Beobachtungen aus Natur und Alltag mit den großen Verwerfungen der Gegenwart und eröffnen eindringliche Perspektiven auf eine fragile Welt. \n \nDie Lesung wird musikalisch von Dieter Weische an der Bambusflöte begleitet. \nDie Moderation der Veranstaltung übernimmt Madjid Mohit (Sujet Verlag). \n \n \n \nMehr Informationen über die Autor*innen erfahren siehier: \nBiografie Martin Bührig \n \n \nBiografie IngeBuck
URL:https://sujetverlag.de/event/bremer-buchpremiere-martin-buehrig-symbolon-lyrische-lesung-mit-musik-und-gespraech/
LOCATION:Haus imPark\, Züricher Straße 40\, Haus im Park (Klinikum Bremen-Ost)\, Bremen\, 28325\, Deutschland
CATEGORIES:Buchpremiere,Lesung,Musik
ATTACH;FMTTYPE=image/jpeg:https://sujetverlag.de/wp-content/uploads/2026/03/Einladung-zur-Buchpremiere-Martin-Buehrig_Inge-Buck-Sujet-Verlag-scaled.jpg
END:VEVENT
BEGIN:VEVENT
DTSTART;TZID=Europe/Berlin:20260506T200000
DTEND;TZID=Europe/Berlin:20260506T200000
DTSTAMP:20260424T005548
CREATED:20260203T133358Z
LAST-MODIFIED:20260203T150455Z
UID:21156-1778097600-1778097600@sujetverlag.de
SUMMARY:Amir Shaheen: Unterwegs bis zum Horizont – Das Beste aus 30 Jahren
DESCRIPTION:Amir Shaheen liest Lyrik\, Kolumnen\, Satirisches aus seinen Büchern \nAm 06. Mai 2026 wird der Autor\, Lektor und PR-RedakteurAmir Shaheenim Tee De Cologne in Köln um 20 Uhr aus seinen Werken lesen. \n \n \nErfahren sie mehr über denAutor: \nBiographie Shaheen
URL:https://sujetverlag.de/event/amir-shaheen-unterwegs-bis-zum-horizont-das-beste-aus-30-jahren/
LOCATION:Tee de Cologne\, Landmannstraße 30\, Köln (Neuehrenfeld)\, 50825
CATEGORIES:Lesung
ATTACH;FMTTYPE=image/jpeg:https://sujetverlag.de/wp-content/uploads/2024/01/Amir-Shaheen-Lesung3.jpg
END:VEVENT
BEGIN:VEVENT
DTSTART;TZID=Europe/Berlin:20260521T190000
DTEND;TZID=Europe/Berlin:20260521T200000
DTSTAMP:20260424T005548
CREATED:20260413T103908Z
LAST-MODIFIED:20260413T103908Z
UID:21280-1779390000-1779393600@sujetverlag.de
SUMMARY:Rose aus dem Nichts - LIEBESLYRIK im West-östlichen Dialog
DESCRIPTION:Literaturtermin im Mai2026 \nROSE AUS DEM NICHTS\nLiebeslyrik\nvon Ost nachWest\nvon West nachOst \nIn unserer Zeit\, in der das Trennende und Hass sich ausbreiten\, entgegnen wir mit Empathie undVers.\nDie Sprache der Liebe ist universell\, kommt ohne Worte aus und ringt um sie. Liebe ist das große Thema derKunst\nund der Literatur\, ist grenzenlos verbindend\, von West nach Ost\, von Ost nach West. Durch viele Jahrhunderte\nberühren uns die Liebesgedichte der Lyriker des Ostens und Westens\, sind Bekenntnis zum Leben\, zur Schönheit\nund der Natur\, verkörpern Bindung und Schmerz\, Sehnsucht und Erfüllung. \nWest-östlicher Diwan: interkultureller Austausch e.V.\nKonzept und Lesung: Inge Buck\, Johannes Feest\, Gunther Gerlach und Cornelius KopfFinke.\nMusik: Reza Zalpour\, Ney Flöte undSetar \nDonnerstag\, 21. Mai 2026 \, 19Uhr\nSujet Verlag Bremen\, Bornstrasse 18
URL:https://sujetverlag.de/event/literaturtermin-mai-liebeslyrik-rose-aus-dem-nichts/
LOCATION:Sujet Verlag\, Bornstraße 18\, Bremen\, Bremen\, 28195\, Deutschland
CATEGORIES:Lesung
ATTACH;FMTTYPE=image/png:https://sujetverlag.de/wp-content/uploads/2026/04/Diwan-Lesungen-Web-EINLADUNGSKARTE.png
END:VEVENT
BEGIN:VEVENT
DTSTART;TZID=Europe/Berlin:20260531T180000
DTEND;TZID=Europe/Berlin:20260531T193000
DTSTAMP:20260424T005548
CREATED:20260422T105708Z
LAST-MODIFIED:20260422T105708Z
UID:21309-1780250400-1780255800@sujetverlag.de
SUMMARY:Nassir Djafari: Tausend Fenster - Lesungen
DESCRIPTION:Autor Nassir Djafari liest aus seinem brandneuen Roman „Tausend Fenster”! Wir laden Euch herzlich ein\, einer seiner anstehenden Lesungen zu besuchen. \n\nAm 31. Mai 2026 in Café Mutz in Frankfurt um 18Uhr\n\nMehr Informationen über den Autor erfährt Ihr Hier! \n \n \n
URL:https://sujetverlag.de/event/nassir-djafari-tausend-fenster-lesungen/
LOCATION:Café Mutz\, Alt Niederursel 27\, Frankfurt am Main\, 60439\, Deutschland
CATEGORIES:Lesung
ATTACH;FMTTYPE=image/png:https://sujetverlag.de/wp-content/uploads/2026/04/1.png
END:VEVENT
BEGIN:VEVENT
DTSTART;TZID=Europe/Berlin:20260614T160000
DTEND;TZID=Europe/Berlin:20260614T173000
DTSTAMP:20260424T005548
CREATED:20260422T105635Z
LAST-MODIFIED:20260422T105635Z
UID:21312-1781452800-1781458200@sujetverlag.de
SUMMARY:Nassir Djafari: Tausend Fenster - Lesungen
DESCRIPTION:Autor Nassir Djafari liest aus seinem brandneuen Roman „Tausend Fenster”! Wir laden Euch herzlich ein\, einer seiner anstehenden Lesungen zu besuchen. \n\nAm 14. Juni 2026 im Nebbienschen Gartenhaus/Frankfurter Künstlerclub in Frankfurt um 16 Uhr (Einlass ab 15:30Uhr)\n\nMehr Informationen über den Autor erfährt Ihr Hier! \n \n \n
URL:https://sujetverlag.de/event/nassir-djafari-tausend-fenster-lesungen-3/
LOCATION:Nebbiensches Gartenhaus\, Bockenheimer Anlage 3\, nahe Hilton Hotel\, Frankfurt am Main\, Hessen\, 60322\, Deutschland
CATEGORIES:Lesung
ATTACH;FMTTYPE=image/png:https://sujetverlag.de/wp-content/uploads/2026/04/1.png
END:VEVENT
BEGIN:VEVENT
DTSTART;TZID=Europe/Berlin:20260817T183000
DTEND;TZID=Europe/Berlin:20260817T200000
DTSTAMP:20260424T005549
CREATED:20260422T105606Z
LAST-MODIFIED:20260422T105606Z
UID:21314-1786991400-1786996800@sujetverlag.de
SUMMARY:Nassir Djafari: Tausend Fenster - Lesungen
DESCRIPTION:Autor Nassir Djafari liest aus seinem brandneuen Roman „Tausend Fenster”! Wir laden Euch herzlich ein\, einer seiner anstehenden Lesungen zu besuchen. \n\nAm 17. August im Evangelisches Gemeindehaus/Buchhandlung der Evangelischen Kirchengemeinde in Wehrheim um 18:30Uhr\n\nMehr Informationen über den Autor erfährt Ihr Hier! \n \n \n
URL:https://sujetverlag.de/event/nassir-djafari-tausend-fenster-lesungen-2/
LOCATION:Evangelisches Gemeindehaus Wehrheim\, Oranienstraße 8a\, Wehrheim\, 61273
CATEGORIES:Lesung
ATTACH;FMTTYPE=image/png:https://sujetverlag.de/wp-content/uploads/2026/04/1.png
END:VEVENT
BEGIN:VEVENT
DTSTART;TZID=Europe/Berlin:20260918T190000
DTEND;TZID=Europe/Berlin:20260918T190000
DTSTAMP:20260424T005549
CREATED:20260203T134121Z
LAST-MODIFIED:20260203T150723Z
UID:21162-1789758000-1789758000@sujetverlag.de
SUMMARY:Amir Shaheen: Unterwegs bis zum Horizont – Das Beste aus 30 Jahren
DESCRIPTION:Amir Shaheen liest Lyrik\, Kolumnen\, Satirisches aus seinen Büchern. \nAm 18. September2026 wird der Autor\, Lektor und PR-RedakteurAmir Shaheen in der Stadtbücherei Altenaum 19Uhr aus seinen Werken lesen. \n \n \nMehr Informationen über den Autor erfahren siehier: \nBiographie Shaheen \n \n \n
URL:https://sujetverlag.de/event/amir-shaheen-unterwegs-bis-zum-horizont-das-beste-aus-30-jahren-2/
LOCATION:Stadtbücherei Altena\, Marktstraße 14-16\, Altena (Westf.)\, D-58762
CATEGORIES:Lesung
ATTACH;FMTTYPE=image/jpeg:https://sujetverlag.de/wp-content/uploads/2023/05/Amir-Shaheen-c-Gabriele-Kuhn-SW.jpg
END:VEVENT
END:VCALENDAR