BEGIN:VCALENDAR
VERSION:2.0
PRODID:-//Sujet Verlag - ECPv5.14.1//NONSGML v1.0//EN
CALSCALE:GREGORIAN
METHOD:PUBLISH
X-WR-CALNAME:Sujet Verlag
X-ORIGINAL-URL:https://sujetverlag.de
X-WR-CALDESC:Veranstaltungen für Sujet Verlag
REFRESH-INTERVAL;VALUE=DURATION:PT1H
X-Robots-Tag:noindex
X-PUBLISHED-TTL:PT1H
BEGIN:VTIMEZONE
TZID:UTC
BEGIN:STANDARD
TZOFFSETFROM:+0000
TZOFFSETTO:+0000
TZNAME:UTC
DTSTART:20210101T000000
END:STANDARD
END:VTIMEZONE
BEGIN:VEVENT
DTSTART;TZID=UTC:20211111T193000
DTEND;TZID=UTC:20211111T193000
DTSTAMP:20260426T014733
CREATED:20211101T144912Z
LAST-MODIFIED:20211109T092308Z
UID:8402-1636659000-1636659000@sujetverlag.de
SUMMARY:Lesung und Gespräch mit Faribā Vafī
DESCRIPTION:Am 11. November um 19:30 Uhr wird unsere Autorin Faribā Vafīin der daadgalerie eine Lesung aus ihrem neuesten Kurzgeschichtenband An den Regen halten und sich in einem anschließenden Gespräch mit der LiteraturwissenschaftlerinMaryam Aras über ihr Verständnis von Literatur austauschen. \nFaribā Vafī ist 1962 in Tabriz\, der Hauptstadt der Provinz Ost-Azerbaidjan im Nordwestiran geboren. Sie lebt derzeit in Teheran und zählt zu den beliebtesten zeitgenössischen Autorinnen Irans. Iranische Kritiker verorten sie unter den Top 10 der modernen Schriftsteller des Landes. Sie wurde mit dem renommierten Huschang-Golschiri-Preis sowie dem Yalda-Preis ausgezeichnet\, außerdem erhielt sie 2017 den LiBeraturpreis für ihr Werk Tarlan. \nDas Gespräch wird auf Persisch und Deutsch geführt mit Simultanübersetzung durch Jutta Himmelreich. Bei Lesung und Gespräch gelten die aktuellen Hygienemaßnahmen (2G-Regel). \nDie Veranstaltung wird digital übertragen: https://fb.me/e/4Sm7CfmaA.
URL:https://sujetverlag.de/event/lesung-und-gespraech-mit-fariba-vafi/
LOCATION:daadgalerie\, Oranienstraße 161\, Berlin\, Berlin\, 10969\, Deutschland
END:VEVENT
END:VCALENDAR