BEGIN:VCALENDAR
VERSION:2.0
PRODID:-//Sujet Verlag - ECPv5.14.1//NONSGML v1.0//EN
CALSCALE:GREGORIAN
METHOD:PUBLISH
X-WR-CALNAME:Sujet Verlag
X-ORIGINAL-URL:https://sujetverlag.de
X-WR-CALDESC:Veranstaltungen für Sujet Verlag
REFRESH-INTERVAL;VALUE=DURATION:PT1H
X-Robots-Tag:noindex
X-PUBLISHED-TTL:PT1H
BEGIN:VTIMEZONE
TZID:Europe/Berlin
BEGIN:DAYLIGHT
TZOFFSETFROM:+0100
TZOFFSETTO:+0200
TZNAME:CEST
DTSTART:20230326T010000
END:DAYLIGHT
BEGIN:STANDARD
TZOFFSETFROM:+0200
TZOFFSETTO:+0100
TZNAME:CET
DTSTART:20231029T010000
END:STANDARD
END:VTIMEZONE
BEGIN:VEVENT
DTSTART;TZID=Europe/Berlin:20230513T150000
DTEND;TZID=Europe/Berlin:20230624T180000
DTSTAMP:20260424T182404
CREATED:20230418T082613Z
LAST-MODIFIED:20230418T082613Z
UID:16630-1683990000-1687629600@sujetverlag.de
SUMMARY:Photoszene Festival 2023: Fotografie und Dichtung im Dialog
DESCRIPTION:Im Rahmen eines Fotografiefestivals mit dem 68elf studio ist unser Autor Amir Shaheen mit den beiden Gedichten „Ein Tag“ (aus: Leuchtspuren Restlicht“\, Sujet 2019) und „Körner“ (unveröffentlicht) vertreten. \nphoto con text #2: „Warten auf etwas\, das Sinn ergibt” \n \nEröffnung: Sa 13.05.23 von 15:00 – 19:00Uhr \nFinissage: Sa 24.06.23 von 15:00 – 18:00Uhr \nweitere Öffnungszeiten: samstags von 15:00 – 18:00 Uhr sowie an anderen Tagen/zu anderen Zeiten nach Anmeldung \nDie Ausstellung ist während der gesamten Laufzeit vor Ort von außen einsehbar. \n \n \nFotografien von: \nMichael Baerens – Dietrich Bahss – Ingrid Bahss – Regina M. Bußmann – Tanja Chimes – Lene Enghusen – Patricia Falkenburg – agii gosse – Susanna Heider – Pi Heinz – Jörn Keseberg – Klaus Küster – Dietmar Paetzold – Christiane Rath – Ingo B. Reize – Georg Schnitzler – susebee – Etienne Szabo \nTexte von: \nJo Bernard/Ojan – Martina Bilke – Safiye Can – Christoph Danne – Axel Dielmann – Christiane Hedtke – Ulrike Halbe-Bauer – Wolfgang Haenle – Tilla Lingenberg – Dagmar Petrick – Amir Shaheen – Maik Schurkus – Birgit van der Leeden – Anette Wanner – Jutta Weber-Bock
URL:https://sujetverlag.de/event/photoszene-festival-2023-fotografie-und-dichtung-im-dialog/
LOCATION:68elf – studio\, Gottesweg 102\, Köln\, 50939\, Deutschland
END:VEVENT
END:VCALENDAR