BEGIN:VCALENDAR
VERSION:2.0
PRODID:-//Sujet Verlag - ECPv5.14.1//NONSGML v1.0//EN
CALSCALE:GREGORIAN
METHOD:PUBLISH
X-WR-CALNAME:Sujet Verlag
X-ORIGINAL-URL:https://sujetverlag.de
X-WR-CALDESC:Veranstaltungen für Sujet Verlag
REFRESH-INTERVAL;VALUE=DURATION:PT1H
X-Robots-Tag:noindex
X-PUBLISHED-TTL:PT1H
BEGIN:VTIMEZONE
TZID:Europe/Berlin
BEGIN:DAYLIGHT
TZOFFSETFROM:+0100
TZOFFSETTO:+0200
TZNAME:CEST
DTSTART:20230326T010000
END:DAYLIGHT
BEGIN:STANDARD
TZOFFSETFROM:+0200
TZOFFSETTO:+0100
TZNAME:CET
DTSTART:20231029T010000
END:STANDARD
END:VTIMEZONE
BEGIN:VEVENT
DTSTART;VALUE=DATE:20230719
DTEND;VALUE=DATE:20230720
DTSTAMP:20260424T235418
CREATED:20230531T092425Z
LAST-MODIFIED:20230531T092556Z
UID:16798-1689724800-1689811199@sujetverlag.de
SUMMARY:Zweisprachige Lesung "Die Verse des Omar Chayyām" mit Inge Buck und Madjid Mohit + Ausstellung Gerda Bier
DESCRIPTION:Wir freuen uns sehr auf die zweisprachige Lesung von Sādeq Hedāyat: „Die Verse des Omar Chayyām” mit Inge Buck und Madjid Mohit am Mittwoch\, den 19. Juli 2023. Die Gedichte werden auf deutsch und persisch vorgetragen. Gleichzeitig findet eine Ausstellungseröffnung mit Gerda Bier statt\, bei der Skulpturen und Bilder von ihr gezeigt werden. \nZeit: Mittwoch\, den 19. Juli2023 \nOrt: Text n’ Art (Sujet Verlag) \nBornstraße 18 \n28309 Bremen
URL:https://sujetverlag.de/event/zweisprachige-lesung-die-verse-des-omar-chayyam-mit-inge-buck-und-madjid-mohit-ausstellung-gerda-bier/
LOCATION:Text n’Art\, Bornstraße 18\, Bremen\, 28309
CATEGORIES:Lesung
ATTACH;FMTTYPE=image/png:https://sujetverlag.de/wp-content/uploads/2023/05/3D-Cover-Chayyam.png
ORGANIZER;CN="Sujet%20Verlag":MAILTO:kontakt@sujet-verlag.de
END:VEVENT
END:VCALENDAR