BEGIN:VCALENDAR
VERSION:2.0
PRODID:-//Sujet Verlag - ECPv5.14.1//NONSGML v1.0//EN
CALSCALE:GREGORIAN
METHOD:PUBLISH
X-WR-CALNAME:Sujet Verlag
X-ORIGINAL-URL:https://sujetverlag.de
X-WR-CALDESC:Veranstaltungen für Sujet Verlag
REFRESH-INTERVAL;VALUE=DURATION:PT1H
X-Robots-Tag:noindex
X-PUBLISHED-TTL:PT1H
BEGIN:VTIMEZONE
TZID:Europe/Berlin
BEGIN:DAYLIGHT
TZOFFSETFROM:+0100
TZOFFSETTO:+0200
TZNAME:CEST
DTSTART:20230326T010000
END:DAYLIGHT
BEGIN:STANDARD
TZOFFSETFROM:+0200
TZOFFSETTO:+0100
TZNAME:CET
DTSTART:20231029T010000
END:STANDARD
END:VTIMEZONE
BEGIN:VEVENT
DTSTART;TZID=Europe/Berlin:20230923T140000
DTEND;TZID=Europe/Berlin:20230923T153000
DTSTAMP:20260425T053743
CREATED:20230912T092537Z
LAST-MODIFIED:20230912T092537Z
UID:17236-1695477600-1695483000@sujetverlag.de
SUMMARY:Lesung mit Salem Khalfani in Frankfurt
DESCRIPTION:Am 23. September kommt Salem Khalfani nach Frankfurt um aus seinem neune Buch „Fliegende Katzen” zu lesen\, welches diese Jahr bei uns im Sujet Verlag veröffentlicht wurde. \n\n\n\n\nIn „Fliegende Katzen” berichtet Salem Khalfani über ein sechsstöckiges Gebäude in einer deutschen Stadt. Die Charaktere sind trotz ihrer zufälligen Bezüge eng miteinander verwoben. Frau Habel kann sich von der Erinnerung an ihre entlaufene Katze nicht lösen. Seit vielen Jahren sucht sie ununterbrochen nach ihr und beschuldigt Josef Bahden\, ihre Katze versteckt zu haben. Hat er sie wirklich versteckt? Auch er scheint sehr mit den Gedanken an Frau Habel und deren Katze beschäftigt zu sein. In Wirklichkeit aber befasst er sich vielmehr mit der Literatur\, die\, statt eine Rettung für ihn zu sein\, ihn immer mehr in die Verwirrung treibt. Zuletzt aber kann sich nur der Erzähler aus seinem babylonischen Turm retten\, da er ja allem Geschehenen einen Zusammenhang gibt\, indem er darüber erzählt und dabei gleichzeitig herausfindet\, was eigentlich mit der Katze geschehen ist. \nSalem Khalfani wurde 1963 im Iran geboren und lebt seit 1985 in Deutschland. Nach seinem Studium der Literaturwissenschaft an der Universität Mainz veröffentlichte er 2003 eine Studie über die „Ähnlichkeiten des Absurden” in der europäischen Literatur. Weiterhin publizierte er zahlreiche literarische Artikel\, Rezensionen und Kurzgeschichten in iranischer Sprache.\n\nDer Eintritt ist frei!
URL:https://sujetverlag.de/event/lesung-mit-salem-khalfani-in-frankfurt/
LOCATION:Club Voltaire\, Kleine Hochstraße 5\, Frankfurt am Main\, 60313\, Deutschland
ATTACH;FMTTYPE=image/png:https://sujetverlag.de/wp-content/uploads/2022/08/Salem-Hhalfani_Fliegende-Katzenen_450x450px.png
END:VEVENT
END:VCALENDAR