BEGIN:VCALENDAR
VERSION:2.0
PRODID:-//Sujet Verlag - ECPv5.14.1//NONSGML v1.0//EN
CALSCALE:GREGORIAN
METHOD:PUBLISH
X-WR-CALNAME:Sujet Verlag
X-ORIGINAL-URL:https://sujetverlag.de
X-WR-CALDESC:Veranstaltungen für Sujet Verlag
REFRESH-INTERVAL;VALUE=DURATION:PT1H
X-Robots-Tag:noindex
X-PUBLISHED-TTL:PT1H
BEGIN:VTIMEZONE
TZID:Europe/Berlin
BEGIN:DAYLIGHT
TZOFFSETFROM:+0100
TZOFFSETTO:+0200
TZNAME:CEST
DTSTART:20230326T010000
END:DAYLIGHT
BEGIN:STANDARD
TZOFFSETFROM:+0200
TZOFFSETTO:+0100
TZNAME:CET
DTSTART:20231029T010000
END:STANDARD
END:VTIMEZONE
BEGIN:VEVENT
DTSTART;TZID=Europe/Berlin:20230927T180000
DTEND;TZID=Europe/Berlin:20230927T193000
DTSTAMP:20260425T025102
CREATED:20230925T074740Z
LAST-MODIFIED:20230925T074740Z
UID:17266-1695837600-1695843000@sujetverlag.de
SUMMARY:Iranische Frauen - Lesung und Gespräch mit Nassir Djafari
DESCRIPTION:Am 27. September kommt Nassir Djafari im Zuge der Interkulturellen Woche nach Wetzlar um aus seinem Buch „Mahtab” zulesen. \nNassir Djafari\, 1952 im Iran geboren\, lebt seit seinem fünften Lebensjahr in Deutschland. Er studierte in Frankfurt Volkswirtschaftslehre und war in verschiedenen Funktionen in der deutschen und internationalen Entwicklungszusammenarbeit tätig. Djafari hat zahlreiche Fachartikel und Buchbeiträge über die wirtschaftlichen und politischen Herausforderungen in Entwicklungs- und Schwellenländern verfasst. \nIn „Mahtab” erzählt er von einer Frau die ihren Weg zwischen der Moderne und ihrer Tradition finden muss. \nDie Lesung wird organisiert von der Flüchtlingshilfe Mittelhessen e.V.. \nMehr Informationen über die Lesung und weitere Veranstaltungen der Interkulturellen Woche in Wetzlar ist hier zu finden.
URL:https://sujetverlag.de/event/iranische-frauen-lesung-und-gespraech-mit-nassir-djafari/
LOCATION:Bar BellaCiao\, Schillerplatz 2\, Wetzlar\, 35578\, Deutschland
ATTACH;FMTTYPE=image/png:https://sujetverlag.de/wp-content/uploads/2023/01/Mahtab_3D-Cover.png
END:VEVENT
END:VCALENDAR