BEGIN:VCALENDAR
VERSION:2.0
PRODID:-//Sujet Verlag - ECPv5.14.1//NONSGML v1.0//EN
CALSCALE:GREGORIAN
METHOD:PUBLISH
X-WR-CALNAME:Sujet Verlag
X-ORIGINAL-URL:https://sujetverlag.de
X-WR-CALDESC:Veranstaltungen für Sujet Verlag
REFRESH-INTERVAL;VALUE=DURATION:PT1H
X-Robots-Tag:noindex
X-PUBLISHED-TTL:PT1H
BEGIN:VTIMEZONE
TZID:Europe/Berlin
BEGIN:DAYLIGHT
TZOFFSETFROM:+0100
TZOFFSETTO:+0200
TZNAME:CEST
DTSTART:20230326T010000
END:DAYLIGHT
BEGIN:STANDARD
TZOFFSETFROM:+0200
TZOFFSETTO:+0100
TZNAME:CET
DTSTART:20231029T010000
END:STANDARD
END:VTIMEZONE
BEGIN:VEVENT
DTSTART;TZID=Europe/Berlin:20230930T114000
DTEND;TZID=Europe/Berlin:20230930T123000
DTSTAMP:20260425T025017
CREATED:20230919T082102Z
LAST-MODIFIED:20230919T082102Z
UID:17256-1696074000-1696077000@sujetverlag.de
SUMMARY:Flanierfestival "Literatur in der Stadt" in Wuppertal mit Halim Youssef
DESCRIPTION:Das renommierte Literaturfestival „Literatur in der Stadt“ lädt am 30. September 2023 alle Literatur- und Kulturbegeisterten auf den Johannes-Rau-Platz in Wuppertal-Barmen ein. Auch dabei ist Sujet-Autor Halim Youssef. \nHalim Youssef ist kurdischer Schriftsteller\, in Syrien geboren und er lebt seit 2000 in Deutschland. Er hat viele Bücher\, sechs davon sind Romane. Bislang wurden seine Werke auf Kurdisch\, Arabisch\, Türkisch\, Persisch\, Englisch und Deutsch veröffentlicht. \nEr wird aus seinem neuen Roman „99 zerstreute Perlen“ lesen\, der von Azados dramatischer Lebensgeschichte handelt\, die anhand des Bildes „99 zerstreuten Perlen“ illustriert wird. Der Erzähler beschreibt das Schicksal der Flüchtlinge in den Auffangzentren im Jahr2015. \nMehr Informationen zu der Veranstaltung gibt es hier: https://festival.literaturhaus-wuppertal.de/halim-youssef/
URL:https://sujetverlag.de/event/flanierfestival-literatur-in-der-stadt-in-wuppertal-mit-halim-youssef/
LOCATION:Johannes-Rau-Platz\, Wuppertal\, 42275
CATEGORIES:Festival,Lesung
ATTACH;FMTTYPE=image/png:https://sujetverlag.de/wp-content/uploads/2023/08/halim.youssef_quadratisch.png
ORGANIZER;CN="Literaturhaus%20Wuppertal%20e.V.":MAILTO:info@literaturhaus-wuppertal.de
END:VEVENT
BEGIN:VEVENT
DTSTART;TZID=Europe/Berlin:20230930T190000
DTEND;TZID=Europe/Berlin:20230930T200000
DTSTAMP:20260425T025017
CREATED:20230912T082450Z
LAST-MODIFIED:20230918T093557Z
UID:17219-1696100400-1696104000@sujetverlag.de
SUMMARY:Funun Festival Bremen mit Widad Nabi
DESCRIPTION:Auch in diesem Jahr veranstaltet der syrische Exilkulturverein SEKu e.V. wieder das traditionelle FUNUN Festival. Das Festival findet vom 29.09 bis zum 08.10. in Bremen an unterschiedlichen Veranstaltunsgorten statt. \nIm Zuge des Festivals wird Widad Nabi am 30. September um 19:00 Uhr aus ihren literarischen Werken lesen. \nDie kurdisch-syrische Schriftstellerin Widad Nabi wurde 1985 in Kobani/Syrien geboren und absolvierte den Bachelor in Wirtschaftswissenschaften an der Universität von Aleppo. Sie hat für zahlreiche arabische Zeitschriften und Zeitungen geschrieben. Einige ihrer Texte erschienen zudem auf Englisch und Französisch. 2013 erschien ihr Buch Zeit für Liebe\, Zeit für Krieg in Aleppo. 2016 folgte Syrien und die Sinnlosigkeit des Todes in Beirut (beide in arabischer Sprache). 2015 gelang ihr die Flucht nach Berlin\, wo sie bis heute lebt. Hier bekam sie schnell Kontakt zur hiesigen Literaturszene. Für zahlreiche Zeitschriften und Zeitungen unter anderem für Spiegel Online\, die ZEIT und die Frankfurter Rundschau schrieb sie Beiträge. Literatur und Sprache als Mittel der Grenzüberschreitung ist eines der Kernmerkmale ihrer Arbeit. \nIm Sujet Verlag veröffentlichte sie bisher drei Werke: „Kurz vor dreißig\,… küss mich” (2019)\, sowie „Unsichtbare Brüche” einmal als deutsche Übersetzung und im letzten Jahr als zweisprachige Ausgabe. \nDer Eintritt für die Veranstaltungen ist frei!
URL:https://sujetverlag.de/event/funun-festival-bremen-mit-widad-nabi/
LOCATION:Lindenhofstraße 53\, Bremen\, 28237
ATTACH;FMTTYPE=image/jpeg:https://sujetverlag.de/wp-content/uploads/2022/04/Widad_Nabi-c-Heike-Steinweg-SW.jpg
ORGANIZER;CN="Sujet%20Verlag":MAILTO:kontakt@sujet-verlag.de
END:VEVENT
END:VCALENDAR