BEGIN:VCALENDAR
VERSION:2.0
PRODID:-//Sujet Verlag - ECPv5.14.1//NONSGML v1.0//EN
CALSCALE:GREGORIAN
METHOD:PUBLISH
X-WR-CALNAME:Sujet Verlag
X-ORIGINAL-URL:https://sujetverlag.de
X-WR-CALDESC:Veranstaltungen für Sujet Verlag
REFRESH-INTERVAL;VALUE=DURATION:PT1H
X-Robots-Tag:noindex
X-PUBLISHED-TTL:PT1H
BEGIN:VTIMEZONE
TZID:Europe/Berlin
BEGIN:DAYLIGHT
TZOFFSETFROM:+0100
TZOFFSETTO:+0200
TZNAME:CEST
DTSTART:20230326T010000
END:DAYLIGHT
BEGIN:STANDARD
TZOFFSETFROM:+0200
TZOFFSETTO:+0100
TZNAME:CET
DTSTART:20231029T010000
END:STANDARD
END:VTIMEZONE
BEGIN:VEVENT
DTSTART;TZID=Europe/Berlin:20231011T190000
DTEND;TZID=Europe/Berlin:20231011T200000
DTSTAMP:20260425T012259
CREATED:20230912T084655Z
LAST-MODIFIED:20230925T103026Z
UID:17231-1697050800-1697054400@sujetverlag.de
SUMMARY:Ausländer auf der Südterrasse – Lesung mit Amir Shaheen
DESCRIPTION:Sujet-Autor Amir Shaheen streift quer durch sein Werk und präsentiert nachdenkliche wie auch satirische und heitere Texte aus seinen Büchern.\nAmir Shaheen stellt seine Bücher regelmäßig in Bremen vor und begeistert mit seinen lebendigen Lesungen das Publikum. Erstmal liest er nun in den neuen Räumlichkeiten des Sujet Verlags. Unter dem Motto „Ausländer auf der Südterrasse“ streift der Kölner Schriftsteller quer durch sein Werk und präsentiert satirische\, heitere wie auch nachdenkliche Texte\, insbesondere aus seinem erfolgreichen Buch „Ich bin kein Ausländer\, ich heiße nur so“ und dem beliebten Umzugsbuch „Noch zweimal einpacken bis Südterrasse“. Aber auch pointierte Kolumnen und Lyrik werden zu hören sein. Und mitunter erfüllt der Autor auch Hörerwünsche… \nDie Lesung wird am 11. Oktober bei uns im Sujet Salon Text’n Art stattfinden. \nEintritt auf Spendenbasis!
URL:https://sujetverlag.de/event/auslaender-auf-der-suedterrasse-lesung-mit-amir-shaheen/
LOCATION:Sujet Verlag\, Bornstraße 18\, Bremen\, Bremen\, 28195\, Deutschland
CATEGORIES:Lesung
ATTACH;FMTTYPE=image/jpeg:https://sujetverlag.de/wp-content/uploads/2021/07/Amir-Shaheen_Portraet_2020_SW-1-e1652690579738.jpg
ORGANIZER;CN="Sujet%20Verlag":MAILTO:kontakt@sujet-verlag.de
END:VEVENT
END:VCALENDAR