BEGIN:VCALENDAR
VERSION:2.0
PRODID:-//Sujet Verlag - ECPv5.14.1//NONSGML v1.0//EN
CALSCALE:GREGORIAN
METHOD:PUBLISH
X-WR-CALNAME:Sujet Verlag
X-ORIGINAL-URL:https://sujetverlag.de
X-WR-CALDESC:Veranstaltungen für Sujet Verlag
REFRESH-INTERVAL;VALUE=DURATION:PT1H
X-Robots-Tag:noindex
X-PUBLISHED-TTL:PT1H
BEGIN:VTIMEZONE
TZID:Europe/Berlin
BEGIN:DAYLIGHT
TZOFFSETFROM:+0100
TZOFFSETTO:+0200
TZNAME:CEST
DTSTART:20230326T010000
END:DAYLIGHT
BEGIN:STANDARD
TZOFFSETFROM:+0200
TZOFFSETTO:+0100
TZNAME:CET
DTSTART:20231029T010000
END:STANDARD
END:VTIMEZONE
BEGIN:VEVENT
DTSTART;VALUE=DATE:20231018
DTEND;VALUE=DATE:20231023
DTSTAMP:20260425T025123
CREATED:20230912T093642Z
LAST-MODIFIED:20230912T093828Z
UID:17238-1697587200-1698019199@sujetverlag.de
SUMMARY:Frankfurter Buchmesse 2023
DESCRIPTION:Wir freuen uns dieses Jahr wieder auf der Frankfurter Buchmesse sein zu dürfen! \nDie Frankfurter Buchmesse findet dieses Jahr vom 18.–22. Oktober statt. In dieser Zeit könnt ihr uns in Halle 3.1 am Stand D91\, gegenüber der Leseinsel der unabhängigen Verlage\, finden. \nWir werden unsere Neuerscheinungen mitbringen und freuen uns schon euch alle zu treffen! \nTickets könnt ihr ab sofort auf der Webseite der Frankfurter Buchmesse bekommen: https://www.buchmesse.de/
URL:https://sujetverlag.de/event/frankfurter-buchmesse-2023/
LOCATION:Frankfurter Buchmesse\, Halle 3.1B99\, Ludwig-Erhard-Anlage 1\, Frankfurt am Main\, Hessen\, 60327\, Deutschland
ATTACH;FMTTYPE=image/png:https://sujetverlag.de/wp-content/uploads/2023/09/80821_FBM-Logo-2023-SLO-DT-CMYK-RED-GRAY-PDF.png
END:VEVENT
BEGIN:VEVENT
DTSTART;TZID=Europe/Berlin:20231021T130000
DTEND;TZID=Europe/Berlin:20231021T131500
DTSTAMP:20260425T025123
CREATED:20231002T134644Z
LAST-MODIFIED:20231002T134644Z
UID:17292-1697893200-1697894100@sujetverlag.de
SUMMARY:"99 zerstreute Perlen" Buchvorstellung auf der Frankfurter Buchmesse
DESCRIPTION:Halim Youssef wird am Samstag auf der Frankfurter Buchmesse sein neues Buch „99 zerstreute Perlen” präsentieren\, dass dieses Jahr bei uns im Sujet Verlag erschienen ist. \nHalim Youssef ist kurdischer Schriftsteller\, in Syrien geboren und er lebt seit 2000 in Deutschland. Er hat viele Bücher\, sechs davon sind Romane. Bislang wurden seine Werke auf Kurdisch\, Arabisch\, Türkisch\, Persisch\, Englisch und Deutsch veröffentlicht. \nSein neuer Roman „99 zerstreute Perlen“ handelt von Azados dramatischer Lebensgeschichte\, die anhand des Bildes „99 zerstreuten Perlen“ illustriert wird. Der Erzähler beschreibt das Schicksal der Flüchtlinge in den Auffangzentren im Jahr2015. \nDie Lesung findet am Stand des Kurdistan Regional Government\, Ministry of Culture and Youth statt\, in der Halle 5.1 StandB47.
URL:https://sujetverlag.de/event/99-zerstreute-perlen-buchvorstellung-auf-der-frankfurter-buchmesse/
LOCATION:Frankfurter Buchmesse\, Halle 3.1B99\, Ludwig-Erhard-Anlage 1\, Frankfurt am Main\, Hessen\, 60327\, Deutschland
CATEGORIES:Frankfurter Buchmesse,Lesung
ATTACH;FMTTYPE=image/png:https://sujetverlag.de/wp-content/uploads/2023/08/Halim-Youssef_99-zerstreute-Perlen_Cover_3D_450.png
END:VEVENT
BEGIN:VEVENT
DTSTART;TZID=Europe/Berlin:20231021T170000
DTEND;TZID=Europe/Berlin:20231021T180000
DTSTAMP:20260425T025123
CREATED:20230927T083725Z
LAST-MODIFIED:20230927T083725Z
UID:17274-1697907600-1697911200@sujetverlag.de
SUMMARY:„Ich bin kein Ausländer\, ich heiße nur so“ - Lesung mit Amir Shaheen auf Usedom
DESCRIPTION:Nachdem Amir Shaheen am 11. Oktober zu uns nach Bremen kommt\, geht seine Reise weiter nach Usedom\, um auch da am 21. Oktober seine Werke vorzustellen. \nMit einem Streifzug durch seine Werke erzählt der Autor pointiert und geistreich von seiner Erfahrungen als deutscher Muttersprachler und Schriftsteller einen arabischen Namen zu tragen. Seiner Erlebnisse erzählt er unterhaltsam und amüsant. Gleichzeitig lädt er dazu ein Schubladendenken und vermeintliche Selbstverständlichkeiten nochmal kritisch zu hinterfragen und unsere Erwartungshaltungen und Vorurteile zu überprüfen. \nEintritt mit Usedom-Card frei!
URL:https://sujetverlag.de/event/ich-bin-kein-auslaender-ich-heisse-nur-so-lesung-mit-amir-shaheen-auf-usedom/
LOCATION:Veranstaltungsräume der Kurverwaltung\, Hauptstraße 31\, Koserow auf Usedom\, 17459
ATTACH;FMTTYPE=image/jpeg:https://sujetverlag.de/wp-content/uploads/2023/05/Amir-Shaheen-c-Gabriele-Kuhn-SW.jpg
ORGANIZER;CN="Kurverwaltung%20Koserow":MAILTO:info@seebad-koserow.de
END:VEVENT
END:VCALENDAR