BEGIN:VCALENDAR
VERSION:2.0
PRODID:-//Sujet Verlag - ECPv5.14.1//NONSGML v1.0//EN
CALSCALE:GREGORIAN
METHOD:PUBLISH
X-WR-CALNAME:Sujet Verlag
X-ORIGINAL-URL:https://sujetverlag.de
X-WR-CALDESC:Veranstaltungen für Sujet Verlag
REFRESH-INTERVAL;VALUE=DURATION:PT1H
X-Robots-Tag:noindex
X-PUBLISHED-TTL:PT1H
BEGIN:VTIMEZONE
TZID:Europe/Berlin
BEGIN:DAYLIGHT
TZOFFSETFROM:+0100
TZOFFSETTO:+0200
TZNAME:CEST
DTSTART:20230326T010000
END:DAYLIGHT
BEGIN:STANDARD
TZOFFSETFROM:+0200
TZOFFSETTO:+0100
TZNAME:CET
DTSTART:20231029T010000
END:STANDARD
END:VTIMEZONE
BEGIN:VEVENT
DTSTART;VALUE=DATE:20231018
DTEND;VALUE=DATE:20231023
DTSTAMP:20260425T054213
CREATED:20230912T093642Z
LAST-MODIFIED:20230912T093828Z
UID:17238-1697587200-1698019199@sujetverlag.de
SUMMARY:Frankfurter Buchmesse 2023
DESCRIPTION:Wir freuen uns dieses Jahr wieder auf der Frankfurter Buchmesse sein zu dürfen! \nDie Frankfurter Buchmesse findet dieses Jahr vom 18.–22. Oktober statt. In dieser Zeit könnt ihr uns in Halle 3.1 am Stand D91\, gegenüber der Leseinsel der unabhängigen Verlage\, finden. \nWir werden unsere Neuerscheinungen mitbringen und freuen uns schon euch alle zu treffen! \nTickets könnt ihr ab sofort auf der Webseite der Frankfurter Buchmesse bekommen: https://www.buchmesse.de/
URL:https://sujetverlag.de/event/frankfurter-buchmesse-2023/
LOCATION:Frankfurter Buchmesse\, Halle 3.1B99\, Ludwig-Erhard-Anlage 1\, Frankfurt am Main\, Hessen\, 60327\, Deutschland
ATTACH;FMTTYPE=image/png:https://sujetverlag.de/wp-content/uploads/2023/09/80821_FBM-Logo-2023-SLO-DT-CMYK-RED-GRAY-PDF.png
END:VEVENT
BEGIN:VEVENT
DTSTART;TZID=Europe/Berlin:20231022T133000
DTEND;TZID=Europe/Berlin:20231022T140000
DTSTAMP:20260425T054213
CREATED:20231012T091625Z
LAST-MODIFIED:20231012T091656Z
UID:17342-1697981400-1697983200@sujetverlag.de
SUMMARY:Lesung - "Flüchtlingscafé" Nahid Keshavarz
DESCRIPTION:Am Sonntag kommt unsere Autorin Nahid Keshavarz auf die Frankfurter Buchmesse\, um aus ihrer Anthologie „Flüchtlingscafé” zulesen. \nDie Lesung wird auf dem zentralen Platz auf der Frankfurter Buchmesse\, am Stand von Amnesty International\, stattfinden. \nDie Anthologie Flüchtlingscafé ist eine Sammlung wundersamer Alltags-Geschichten von unterschiedlichen Menschen. Im Vordergrund des Buches steht das Leben als Migrant mit all seinen Schmerzen\, seiner Freude und seiner Leidenschaft. Die Erzählungen von Nahid Keshavarz lassen den Leser in den Alltag und die Gedanken von unterschiedlichsten Charakteren schlüpfen. Die Erzählungen handeln von Ehepaaren\, die mit Kommunikationsproblemen hadern\, den Brüchen gesellschaftlicher Konventionen\, der Auseinandersetzung mit dem sozialen Medium „Facebook” sowie von kulturellen Missverständnissen. Ohne mit einer schweren Sprache zu erdrücken\, zeigt die Autorin durch ihre verschiedenen Charaktere zahlreiche Facetten von Menschen\, die nicht mehr in ihrem Heimatland leben können. Nicht zuletzt schafft sie es\, die Geschichten so realistisch rüberzubringen\, dass man sich beim Lesen in einem gesprächigen Café wiederfinden kann.\n\nDas Buch wurde aus dem Persischen übersetzt von Monika Matzke.
URL:https://sujetverlag.de/event/lesung-fluechtlingscafe-nahid-keshavarz-2/
LOCATION:Frankfurter Buchmesse\, Ludwig-Erhard-Anlage 1\, Frankfurt am Main\, Hessen\, 60327\, Deutschland
CATEGORIES:Frankfurter Buchmesse,Lesung
ATTACH;FMTTYPE=image/jpeg:https://sujetverlag.de/wp-content/uploads/2018/10/fb.jpg
END:VEVENT
END:VCALENDAR