BEGIN:VCALENDAR
VERSION:2.0
PRODID:-//Sujet Verlag - ECPv5.14.1//NONSGML v1.0//EN
CALSCALE:GREGORIAN
METHOD:PUBLISH
X-WR-CALNAME:Sujet Verlag
X-ORIGINAL-URL:https://sujetverlag.de
X-WR-CALDESC:Veranstaltungen fÃ¼r Sujet Verlag
REFRESH-INTERVAL;VALUE=DURATION:PT1H
X-Robots-Tag:noindex
X-PUBLISHED-TTL:PT1H
BEGIN:VTIMEZONE
TZID:Europe/Berlin
BEGIN:DAYLIGHT
TZOFFSETFROM:+0100
TZOFFSETTO:+0200
TZNAME:CEST
DTSTART:20230326T010000
END:DAYLIGHT
BEGIN:STANDARD
TZOFFSETFROM:+0200
TZOFFSETTO:+0100
TZNAME:CET
DTSTART:20231029T010000
END:STANDARD
END:VTIMEZONE
BEGIN:VEVENT
DTSTART;TZID=Europe/Berlin:20231031T180000
DTEND;TZID=Europe/Berlin:20231031T190000
DTSTAMP:20260425T041423
CREATED:20231012T085616Z
LAST-MODIFIED:20231012T085616Z
UID:17340-1698775200-1698778800@sujetverlag.de
SUMMARY:DoÄŸan Akhanli - Gedenkveranstaltung
DESCRIPTION:An seinem zweiten Todestag wollen wir unserem wertgeschÃ¤tzten Autor DoÄŸan Akhanli gedenken.\nWir lesen aus seinem Werk â€žMadonnas letzter Traumâ€œ\, das 2019 im Sujet Verlag erschienen ist und ein\nperfektes Beispiel darstellt\, wie Akhanli Genozide des 20. Jahrhunderts auf eine grandiose literarische Art\nbearbeitet. AuÃŸerdem haben wir die Ehre\, Ausschnitte aus dem noch unverÃ¶ffentlichten Roman â€žSankofaâ€œ\nvorstellen zu dÃ¼rfen\, der bisher noch von Recai HallaÃ§ Ã¼bersetzt wird und 2024 bei uns erscheinen\nwird. \nDoÄŸan AkhanlÄ±\, 1957 in der TÃ¼rkei geboren und im Oktober 2021 in Berlin gestorben\, hat zahlreiche Romane\nund ein TheaterstÃ¼ck verfasst. 1991 kam er als politischer FlÃ¼chtling nach Deutschland. Seit 1992\nlebte er in KÃ¶ln\, spÃ¤ter in Berlin. Sein Kernthema ist die Auseinandersetzung mit den Genoziden des 20.\nJahrhunderts. Aufgrund seiner politischen Haltung war er mehrfach in der TÃ¼rkei inhaftiert und zuletzt\naufgrund eines tÃ¼rkischen Haftbefehls 2017 in Spanien\, worÃ¼ber er das Buch â€žVerhaftung in Granadaâ€œ\nschrieb. \n2013 erhielt er den Pfarrer-Georg-Fritze-Preis in KÃ¶ln\, 2018 den EuropÃ¤ischen Toleranzpreis in Ã–sterreich\nund 2019 wurde ihm die Goethe-Medaille verliehen. â€žDie Tage ohne Vaterâ€œ und â€žMadonnas letzter Traumâ€œ\nzÃ¤hlen zu seinen wichtigsten RomanverÃ¶ffentlichung. \n  \nEintritt auf Spendenbasis!
URL:https://sujetverlag.de/event/dogan-akhanli-gedenkveranstaltung/
LOCATION:Sujet Verlag\, BornstraÃŸe 18\, Bremen\, Bremen\, 28195\, Deutschland
CATEGORIES:Gedenkveranstaltung,Lesung
ATTACH;FMTTYPE=image/jpeg:https://sujetverlag.de/wp-content/uploads/2019/05/Foto-f.-Pressemappe-Akhanli-SW-scaled-e1651220877874.jpg
ORGANIZER;CN="Sujet%20Verlag":MAILTO:kontakt@sujet-verlag.de
END:VEVENT
END:VCALENDAR