BEGIN:VCALENDAR
VERSION:2.0
PRODID:-//Sujet Verlag - ECPv5.14.1//NONSGML v1.0//EN
CALSCALE:GREGORIAN
METHOD:PUBLISH
X-WR-CALNAME:Sujet Verlag
X-ORIGINAL-URL:https://sujetverlag.de
X-WR-CALDESC:Veranstaltungen für Sujet Verlag
REFRESH-INTERVAL;VALUE=DURATION:PT1H
X-Robots-Tag:noindex
X-PUBLISHED-TTL:PT1H
BEGIN:VTIMEZONE
TZID:Europe/Berlin
BEGIN:DAYLIGHT
TZOFFSETFROM:+0100
TZOFFSETTO:+0200
TZNAME:CEST
DTSTART:20230326T010000
END:DAYLIGHT
BEGIN:STANDARD
TZOFFSETFROM:+0200
TZOFFSETTO:+0100
TZNAME:CET
DTSTART:20231029T010000
END:STANDARD
END:VTIMEZONE
BEGIN:VEVENT
DTSTART;TZID=Europe/Berlin:20231122T180000
DTEND;TZID=Europe/Berlin:20231122T190000
DTSTAMP:20260425T173622
CREATED:20231113T130656Z
LAST-MODIFIED:20231113T130822Z
UID:17411-1700676000-1700679600@sujetverlag.de
SUMMARY:Lesung mit Halim Youssef (FliehKraft Köln)
DESCRIPTION:Am 22. November findet im Kölner Flüchtlingszentrum FliehKraft\, Turmstraße 3–7\, eine Lesung mit Halim Youssef statt\, welcher aus seinem neuesten Buch „99 zerstreute Perlen” vorliest. In diesem Roman wird die Lebensgeschichte des syrischen Übersetzers Azado erzählt\, sowie von den Schicksalen\, mit denen er durch seine Tätigkeit in Kontakt kommt. \nIn Anschluss an die Lesung folgt um 19 Uhr ein Konzert mit Poolad Torkamanrad und Katharina Hoffmann\, einem Musikerduo das orientalische Klänge mit Elementen der europäischen Klassik vereint.
URL:https://sujetverlag.de/event/lesung-mit-halim-youssef-fliehkraft-koeln/
LOCATION:Fliehkraft\, Turmstraße 5\, Köln\, Nordrhein-Westfalen\, 50733\, Deutschland
CATEGORIES:Lesung
ATTACH;FMTTYPE=image/png:https://sujetverlag.de/wp-content/uploads/2023/08/halim.youssef_quadratisch.png
ORGANIZER;CN="Fliehkraft":MAILTO:info@fluechtlingszentrum.de
END:VEVENT
END:VCALENDAR