BEGIN:VCALENDAR
VERSION:2.0
PRODID:-//Sujet Verlag - ECPv5.14.1//NONSGML v1.0//EN
CALSCALE:GREGORIAN
METHOD:PUBLISH
X-WR-CALNAME:Sujet Verlag
X-ORIGINAL-URL:https://sujetverlag.de
X-WR-CALDESC:Veranstaltungen fÃ¼r Sujet Verlag
REFRESH-INTERVAL;VALUE=DURATION:PT1H
X-Robots-Tag:noindex
X-PUBLISHED-TTL:PT1H
BEGIN:VTIMEZONE
TZID:Europe/Berlin
BEGIN:DAYLIGHT
TZOFFSETFROM:+0100
TZOFFSETTO:+0200
TZNAME:CEST
DTSTART:20230326T010000
END:DAYLIGHT
BEGIN:STANDARD
TZOFFSETFROM:+0200
TZOFFSETTO:+0100
TZNAME:CET
DTSTART:20231029T010000
END:STANDARD
END:VTIMEZONE
BEGIN:VEVENT
DTSTART;TZID=Europe/Berlin:20231124T180000
DTEND;TZID=Europe/Berlin:20231124T180000
DTSTAMP:20260425T041413
CREATED:20231115T124245Z
LAST-MODIFIED:20231115T124245Z
UID:17538-1700848800-1700848800@sujetverlag.de
SUMMARY:Freiheit der Worte - Worte der Freiheit
DESCRIPTION:Lesung und GesprÃ¤ch Ã¼ber Krieg\, Meinungsfreiheit und die Macht der Worte\nAm Freitag\, dem 24. November 2023\, findet im Audimax der Bauhaus-UniversitÃ¤t in Weimar eine Lesung mit anschlieÃŸendem GesprÃ¤ch statt. Unter den eingeladenen GÃ¤sten ist auch unser VerlagsgrÃ¼nder und â€‘inhaber\, Madjid Mohit. AuÃŸerdem lesen Nahid Shahalimi und Tanja Maljartschuk. Moderiert wird das Event von Dina Netz.
URL:https://sujetverlag.de/event/freiheit-der-worte-worte-der-freiheit/
LOCATION:Bauhaus-UniversitÃ¤t Weimar (Audimax)\, SteubenstraÃŸe 6\, Weimar\, ThÃ¼ringen\, 99421\, Deutschland
CATEGORIES:Lesung
ATTACH;FMTTYPE=image/jpeg:https://sujetverlag.de/wp-content/uploads/2021/04/Madjid-Podcast-scaled.jpg
ORGANIZER;CN="Stiftung%20Ettersberg":MAILTO:weimar@stiftung-ettersberg.de
END:VEVENT
END:VCALENDAR