BEGIN:VCALENDAR
VERSION:2.0
PRODID:-//Sujet Verlag - ECPv5.14.1//NONSGML v1.0//EN
CALSCALE:GREGORIAN
METHOD:PUBLISH
X-WR-CALNAME:Sujet Verlag
X-ORIGINAL-URL:https://sujetverlag.de
X-WR-CALDESC:Veranstaltungen fÃ¼r Sujet Verlag
REFRESH-INTERVAL;VALUE=DURATION:PT1H
X-Robots-Tag:noindex
X-PUBLISHED-TTL:PT1H
BEGIN:VTIMEZONE
TZID:Europe/Berlin
BEGIN:DAYLIGHT
TZOFFSETFROM:+0100
TZOFFSETTO:+0200
TZNAME:CEST
DTSTART:20240331T010000
END:DAYLIGHT
BEGIN:STANDARD
TZOFFSETFROM:+0200
TZOFFSETTO:+0100
TZNAME:CET
DTSTART:20241027T010000
END:STANDARD
END:VTIMEZONE
BEGIN:VEVENT
DTSTART;TZID=Europe/Berlin:20240130T180000
DTEND;TZID=Europe/Berlin:20240130T200000
DTSTAMP:20260421T134707
CREATED:20240116T162949Z
LAST-MODIFIED:20240116T163325Z
UID:17871-1706637600-1706644800@sujetverlag.de
SUMMARY:20 Jahre Stolpersteine in Bremen
DESCRIPTION:Haus der Bremischen BÃ¼rgerschaft\, Bremen\n \n20 Jahre Stolpersteine in Bremen\nGegen das Vergessen â€“ Ein Kunst- und Erinnerungsprojekt\n18.00 Uhr (Einlass ab 17.30)\n\n \nIm September 2003 stellte der KÃ¶lner KÃ¼nstler Gunter Demnig sein Stolpersteinprojekt in Bremen vor\, im Jahr darauf wurde es hier Ã¼bernommen. Seitdem wurden nahezu 800 Stolpersteine auf BÃ¼rgersteigen unserer Stadt verlegt. Insgesamt gibt es bislang Ã¼ber 100.000 Gedenksteine in Europa.\nAn diesem Abend wird Ã¼ber die AnfÃ¤nge des Projekts berichtet und Ã¼ber die Aufarbeitung der Schicksale jener Opfer\, an die die Stolpersteine erinnern. Die Zusammenarbeit vieler Bremer Akteure wird dabei sichtbar gemacht\, und es werden biografische Beispiele vorgetragen\, die fÃ¼r die verschiedenen Opfergruppen stehen\, die unter der NS-Herrschaft in Bremen gelitten haben. \n  \nDas Projekt â€ž20 Jahre Stolpersteine in Bremen. Biografische Spurensucheâ€œ\, herausgegeben von Barbara Johr und Peter Christoffersen\, ist von 2013 bis 2022 in 7 BÃ¤nden im Sujet Verlag Bremen erschienen. \n  \nDer Abend wird begleitet durch den Chor IntoNation der Hochschule Bremen. \n  \nUm Anmeldung bis zum 25.1. wird gebetenunter:\nanmeldung@buergerschaft.bremen.de\nDie Anzahl der PlÃ¤tze ist begrenzt. Wir empfehlen frÃ¼hzeitig zu erscheinen.
URL:https://sujetverlag.de/event/20-jahre-stolpersteine-in-bremen/
LOCATION:Haus der Bremischen BÃ¼rgerschaft\, Bremen\, Deutschland
ATTACH;FMTTYPE=image/jpeg:https://sujetverlag.de/wp-content/uploads/2024/01/Bild.jpg
END:VEVENT
END:VCALENDAR