BEGIN:VCALENDAR
VERSION:2.0
PRODID:-//Sujet Verlag - ECPv5.14.1//NONSGML v1.0//EN
CALSCALE:GREGORIAN
METHOD:PUBLISH
X-WR-CALNAME:Sujet Verlag
X-ORIGINAL-URL:https://sujetverlag.de
X-WR-CALDESC:Veranstaltungen für Sujet Verlag
REFRESH-INTERVAL;VALUE=DURATION:PT1H
X-Robots-Tag:noindex
X-PUBLISHED-TTL:PT1H
BEGIN:VTIMEZONE
TZID:Europe/Berlin
BEGIN:DAYLIGHT
TZOFFSETFROM:+0100
TZOFFSETTO:+0200
TZNAME:CEST
DTSTART:20240331T010000
END:DAYLIGHT
BEGIN:STANDARD
TZOFFSETFROM:+0200
TZOFFSETTO:+0100
TZNAME:CET
DTSTART:20241027T010000
END:STANDARD
END:VTIMEZONE
BEGIN:VEVENT
DTSTART;TZID=Europe/Berlin:20240201T193000
DTEND;TZID=Europe/Berlin:20240201T210000
DTSTAMP:20260421T134715
CREATED:20240105T113654Z
LAST-MODIFIED:20240105T113654Z
UID:17848-1706815800-1706821200@sujetverlag.de
SUMMARY:»Am Rande der Sprache steht ein Gedicht« – Ein Abend für Axel Kutsch mit unseren Autoren: Gerrit Wustmann und Amir Shaheen
DESCRIPTION:Fast fünfzig Jahre lang hat der Dichter und Herausgeber Axel Kutsch die deutsche Lyrik mitgeprägt. Von der frühen politischen Lyrik über Sprachexperimente in den Neunzigern und humorvolle Metalyrik bis hin zu seiner prägenden Rolle als Herausgeber von fast fünfzig Anthologien: Ohne Axel Kutsch wäre die hiesige Lyrikszene eine andere. \nNach seiner schweren Erkrankung im Februar 2023 haben seine Tochter Katja Kutsch und der Schriftsteller Gerrit Wustmann sein dichterisches Gesamtwerk zusammengestellt. Im Literaturhaus Köln stellen sie es gemeinsam mit Verleger Ralf Liebe sowie Amir Shaheen\, Markus Peter\, Gundula Schiffer\, Bernt Hahn und Anton G. Leitner vor\, rezitieren Lieblingsgedichte und sprechen über Axel Kutsch\, den Dichter und Menschen. Es wird\, um Kutsch zu zitieren\, eine »Feier des Wortes«. \nDonnerstag / 01. Februar 2024 / 19:30Uhr
URL:https://sujetverlag.de/event/am-rande-der-sprache-steht-ein-gedicht-ein-abend-fuer-axel-kutsch-mit-unseren-autoren-gerrit-wustmann-und-amir-shaheen/
LOCATION:Literaturhaus Köln\, Großer Griechenmarkt 39\, Köln\, 50676 \, Deutschland
CATEGORIES:Buchvorstellung,Lesung
ATTACH;FMTTYPE=image/webp:https://sujetverlag.de/wp-content/uploads/2024/01/Axek-Kutsch.webp
END:VEVENT
BEGIN:VEVENT
DTSTART;TZID=Europe/Berlin:20240201T200000
DTEND;TZID=Europe/Berlin:20240201T213000
DTSTAMP:20260421T134715
CREATED:20231218T115938Z
LAST-MODIFIED:20240108T152831Z
UID:17821-1706817600-1706823000@sujetverlag.de
SUMMARY:Lesung Pedro Kadivar
DESCRIPTION:Der Startschuss für unser diesjähriges Lesungs-Programm fällt am ersten Februar\, im Buchhändlerkeller\, Berlin-Charlottenburg: Pedro Kadivar liest aus seinem Buch „Unendlich ist die Nacht”\, einer tiefgründigen Geschichte über die komplexe Beziehung zweier Flüchtlinge. \nEs moderiert Gernot Krämer.
URL:https://sujetverlag.de/event/gedenkveranstaltung-fuer-berzan-kejo-2/
LOCATION:Buchhändlerkeller\, Carmerstraße 1\, Charlottenburg\, Berlin\, 10623
CATEGORIES:Lesung
ATTACH;FMTTYPE=image/jpeg:https://sujetverlag.de/wp-content/uploads/2023/11/COVER-gebunden-3D_unendlich-ist-die-Nacht.jpg
END:VEVENT
END:VCALENDAR