BEGIN:VCALENDAR
VERSION:2.0
PRODID:-//Sujet Verlag - ECPv5.14.1//NONSGML v1.0//EN
CALSCALE:GREGORIAN
METHOD:PUBLISH
X-WR-CALNAME:Sujet Verlag
X-ORIGINAL-URL:https://sujetverlag.de
X-WR-CALDESC:Veranstaltungen fÃ¼r Sujet Verlag
REFRESH-INTERVAL;VALUE=DURATION:PT1H
X-Robots-Tag:noindex
X-PUBLISHED-TTL:PT1H
BEGIN:VTIMEZONE
TZID:Europe/Berlin
BEGIN:DAYLIGHT
TZOFFSETFROM:+0100
TZOFFSETTO:+0200
TZNAME:CEST
DTSTART:20250330T010000
END:DAYLIGHT
BEGIN:STANDARD
TZOFFSETFROM:+0200
TZOFFSETTO:+0100
TZNAME:CET
DTSTART:20251026T010000
END:STANDARD
END:VTIMEZONE
BEGIN:VEVENT
DTSTART;TZID=Europe/Berlin:20250225T193000
DTEND;TZID=Europe/Berlin:20250225T213000
DTSTAMP:20260422T104935
CREATED:20250211T094608Z
LAST-MODIFIED:20250211T095019Z
UID:20105-1740511800-1740519000@sujetverlag.de
SUMMARY:Lesung & GesprÃ¤ch - Atef Abu Saif: "Leben in der Schwebe" in der Buchhandlung mille et deux feuilles
DESCRIPTION:In der Buchhandlung mille et deux feuilles in ZÃ¼rich findet am Dienstag\, den 25. Februar eine Veranstaltung statt. Um 19:30 Uhr wird Atef Abu Saif eine Lesung zu seinem Roman â€žLeben in der Schwebeâ€œ halten. \nModeriert wird von Monika Bolliger. \nDie Lesung an sich wird auf Deutsch gehalten\, das GesprÃ¤ch danach wird auf Englisch gefÃ¼hrt. \n\nDer etwa 60 jÃ¤hrige NaÃ®m ist Inhaber eines Copy-Shops\, in dem Poster von Gefallenen (â€žMÃ¤rtyrernâ€œ) produziert werden. Als er im Jahr 2011 durch einen BlindgÃ¤nger getÃ¶tet wird\, entsteht zwischen seinem Sohn SalmÃ¢n\, und seinem Neffen Nasr\, eine Debatte\, ob NaÃ®m Held oder Opfer ist â€“ eine Grundsatzdebatte\, die das ganze Buch durchzieht.\nSpÃ¤ter kommt es zu heftigen ZusammenstÃ¶ÃŸen zwischen der BevÃ¶lkerung des Lagers und der Gaza-Verwaltung\, als es um die Bebauung des HÃ¼gels geht\, auf dem u.a. NaÃ®ms Haus steht. Diese ZusammenstÃ¶ÃŸe zeigen den Versuch der Gesellschaft\, sich gegen die wachsende Machtclique zu wehren\, die sich nicht scheut\, auch die Religion mittels mehr oder weniger Gewalt in ihre Dienste zu nehmen.\n\n\n\nDer Roman ist ein interessantes und eindrucksvolles â€žDokumentâ€œ des PalÃ¤stina-â€žProblemsâ€œ vom besonderen Blickwinkel des Gazastreifens aus. \nWeitere Informationen zur Veranstaltung findet ihr hier.
URL:https://sujetverlag.de/event/lesung-gespraech-atef-abu-saif-leben-in-der-schwebe-in-der-buchhandlung-mille-et-deux-feuilles/
LOCATION:Buchhandlung mille et deux feuilles\, Glasmalergasse 6\, ZÃ¼rich\, 8004\, Schweiz
ATTACH;FMTTYPE=image/png:https://sujetverlag.de/wp-content/uploads/2025/02/Instagram-Post-Buchhandlung-mille-et-deux-feuilles.png
ORGANIZER;CN="Buchhandlung%20mille%20et%20deux%20feuilles":MAILTO:info@milleetdeuxfeuilles.ch
END:VEVENT
END:VCALENDAR