BEGIN:VCALENDAR
VERSION:2.0
PRODID:-//Sujet Verlag - ECPv5.14.1//NONSGML v1.0//EN
CALSCALE:GREGORIAN
METHOD:PUBLISH
X-WR-CALNAME:Sujet Verlag
X-ORIGINAL-URL:https://sujetverlag.de
X-WR-CALDESC:Veranstaltungen fÃ¼r Sujet Verlag
REFRESH-INTERVAL;VALUE=DURATION:PT1H
X-Robots-Tag:noindex
X-PUBLISHED-TTL:PT1H
BEGIN:VTIMEZONE
TZID:Europe/Berlin
BEGIN:DAYLIGHT
TZOFFSETFROM:+0100
TZOFFSETTO:+0200
TZNAME:CEST
DTSTART:20250330T010000
END:DAYLIGHT
BEGIN:STANDARD
TZOFFSETFROM:+0200
TZOFFSETTO:+0100
TZNAME:CET
DTSTART:20251026T010000
END:STANDARD
END:VTIMEZONE
BEGIN:VEVENT
DTSTART;TZID=Europe/Berlin:20250316T160000
DTEND;TZID=Europe/Berlin:20250316T170000
DTSTAMP:20260422T124247
CREATED:20250228T083837Z
LAST-MODIFIED:20250228T084956Z
UID:20262-1742140800-1742144400@sujetverlag.de
SUMMARY:Lesung Martin BÃ¼hrig "Der Andere"
DESCRIPTION:Die Gedichte von Martin BÃ¼hrig gehÃ¶ren weder zur tagespolitischen noch zur allgemein politischen Lyrik. Vielmehr stehen sie in der jahrhundertealten Tradition einer Lyrik der persÃ¶nlichen Betroffenheit\, die universell ist und jedem Menschen eigen\, geprÃ¤gt durch die jeweilige Zeit und Lebenssituation. Zusammen mit Madjid Mohit (Sujet Verlag)\, wird am Sonntag\, den 16. MÃ¤rz beim Haus im Park um 16 Uhr der Frage nach dem Anderen auf den Grund gegangen.  Im Anschluss werden ausgewÃ¤hlte Passagen aus â€žDer Andereâ€œ von Martin BÃ¼hrig sowie weiteren Werken prÃ¤sentiert\, die den Blick auf Fremdheit\, IdentitÃ¤t und Begegnung vertiefen. \nFreuen Sie sich auf einen inspirierenden Nachmittag voller literarischer Impulse. \n  \nDer Eintritt ist frei! \nHier gehtâ€™s zum Buch! \nHier erfÃ¤hrt Ihr mehr Ã¼ber den Autor!
URL:https://sujetverlag.de/event/lesung-martin-buehrig-der-andere/
LOCATION:Haus im Park\, ZÃ¼richer StraÃŸe 40\, Haus im Park (Klinikum Bremen-Ost)\, Bremen\, 28325\, Deutschland
ATTACH;FMTTYPE=image/jpeg:https://sujetverlag.de/wp-content/uploads/2025/02/2025_03_16_Buehrig.jpg
END:VEVENT
END:VCALENDAR