BEGIN:VCALENDAR
VERSION:2.0
PRODID:-//Sujet Verlag - ECPv5.14.1//NONSGML v1.0//EN
CALSCALE:GREGORIAN
METHOD:PUBLISH
X-WR-CALNAME:Sujet Verlag
X-ORIGINAL-URL:https://sujetverlag.de
X-WR-CALDESC:Veranstaltungen fÃ¼r Sujet Verlag
REFRESH-INTERVAL;VALUE=DURATION:PT1H
X-Robots-Tag:noindex
X-PUBLISHED-TTL:PT1H
BEGIN:VTIMEZONE
TZID:Europe/Berlin
BEGIN:DAYLIGHT
TZOFFSETFROM:+0100
TZOFFSETTO:+0200
TZNAME:CEST
DTSTART:20250330T010000
END:DAYLIGHT
BEGIN:STANDARD
TZOFFSETFROM:+0200
TZOFFSETTO:+0100
TZNAME:CET
DTSTART:20251026T010000
END:STANDARD
END:VTIMEZONE
BEGIN:VEVENT
DTSTART;TZID=Europe/Berlin:20250505T140000
DTEND;TZID=Europe/Berlin:20250505T140000
DTSTAMP:20260424T124926
CREATED:20250414T114406Z
LAST-MODIFIED:20250414T114406Z
UID:20373-1746453600-1746453600@sujetverlag.de
SUMMARY:9. Teheraner Buchmesse - unzensiert
DESCRIPTION:Dieses Jahr wird im Rahmen der Teheraner Buchmesse ohne Zensur am 5. Mai eine Messe bei uns im Verlag stattfinden. Zeitgleich mit der Buchmesse in Teheran im Iran zeigen iranische unabhÃ¤ngige Verlage auÃŸerhalb des Irans die Literatur\, die in ihrem Herkunftsland nicht verÃ¶ffentlicht werden darf. Die Messe ist nicht nur ein Verkauf von BÃ¼chern\, sondern auch ein ziviler Protest fÃ¼r das ZurÃ¼ckerlangen des Rechts auf KreativitÃ¤t und Meinungsfreiheit. Geplant sind Lesungen und GesprÃ¤che wÃ¤hrend der Messezeit. NÃ¤here Informationen zu den auftretenden Autor*innen folgen bald. Wenn ihr das gerne miterleben wollt\, dann kommt am 5. Mai ab 14 Uhr in den Sujet Verlag (BornstraÃŸe 18\, 28195 Bremen). Wir freuen uns auf euch! \n\nDer Eintritt betrÃ¤gt 6 Euro.
URL:https://sujetverlag.de/event/9-teheraner-buchmesse-unzensiert/
LOCATION:Sujet Verlag\, BornstraÃŸe 18\, Bremen\, Bremen\, 28195\, Deutschland
ATTACH;FMTTYPE=image/jpeg:https://sujetverlag.de/wp-content/uploads/2025/04/Plakat_Buchmesse-_braun_2025-scaled.jpg
ORGANIZER;CN="Sujet%20Verlag":MAILTO:kontakt@sujet-verlag.de
END:VEVENT
END:VCALENDAR