BEGIN:VCALENDAR
VERSION:2.0
PRODID:-//Sujet Verlag - ECPv5.14.1//NONSGML v1.0//EN
CALSCALE:GREGORIAN
METHOD:PUBLISH
X-WR-CALNAME:Sujet Verlag
X-ORIGINAL-URL:https://sujetverlag.de
X-WR-CALDESC:Veranstaltungen für Sujet Verlag
REFRESH-INTERVAL;VALUE=DURATION:PT1H
X-Robots-Tag:noindex
X-PUBLISHED-TTL:PT1H
BEGIN:VTIMEZONE
TZID:Europe/Berlin
BEGIN:DAYLIGHT
TZOFFSETFROM:+0100
TZOFFSETTO:+0200
TZNAME:CEST
DTSTART:20250330T010000
END:DAYLIGHT
BEGIN:STANDARD
TZOFFSETFROM:+0200
TZOFFSETTO:+0100
TZNAME:CET
DTSTART:20251026T010000
END:STANDARD
END:VTIMEZONE
BEGIN:VEVENT
DTSTART;TZID=Europe/Berlin:20250524T190000
DTEND;TZID=Europe/Berlin:20250524T204500
DTSTAMP:20260424T141056
CREATED:20250513T143141Z
LAST-MODIFIED:20250513T143141Z
UID:20455-1748113200-1748119500@sujetverlag.de
SUMMARY:In einer anderen Sprache - Lesung mit Halim Youssef
DESCRIPTION:Am 24. Mai um 19 Uhr findet eine Lesung mit Halim Youssef statt. Veranstaltet wird sie vom Literaturhaus Wuppertal im Internationalen Begenungszentrum der Caritas Wuppertal/Solingen. Die Lesung eröffnet die Veranstaltungsreihe „In einer anderen Sprache”\, welche sich auf Autor*innen konzentriert\, die nicht primär auf Deutsch schreiben und so ihr Leben und Wirken zwischen den Sprachen in den Vordergrund rückt. In diesem Rahmen wird Halim Youssef mehrere Kurzgeschichten vorstellen\, die zum Teil unveröffentlicht sind und erstmals auf Deutsch gelesen werden. Moderiert und kuratiert wird die Lesung durch die Romanistin und Philosophin Luciana Casale. \nMehr Informationen über Halim Youssef gibt es hier. \nDer Eintritt ist kostenlos.
URL:https://sujetverlag.de/event/in-einer-anderen-sprache-lesung-mit-halim-youssef/
LOCATION:Internationales Begegnungszentrum\, Hühnefeldstraße 54a\, Wuppertal\, Nordrhein-Westfalen\, 42285\, Deutschland
ATTACH;FMTTYPE=image/png:https://sujetverlag.de/wp-content/uploads/2025/05/Lesung-mit-Halim-Youssef-24.-Mai-20251.png
ORGANIZER;CN="Literaturhaus%20Wuppertal%20e.V.":MAILTO:info@literaturhaus-wuppertal.de
END:VEVENT
END:VCALENDAR