BEGIN:VCALENDAR
VERSION:2.0
PRODID:-//Sujet Verlag - ECPv5.14.1//NONSGML v1.0//EN
CALSCALE:GREGORIAN
METHOD:PUBLISH
X-WR-CALNAME:Sujet Verlag
X-ORIGINAL-URL:https://sujetverlag.de
X-WR-CALDESC:Veranstaltungen für Sujet Verlag
REFRESH-INTERVAL;VALUE=DURATION:PT1H
X-Robots-Tag:noindex
X-PUBLISHED-TTL:PT1H
BEGIN:VTIMEZONE
TZID:Europe/Berlin
BEGIN:DAYLIGHT
TZOFFSETFROM:+0100
TZOFFSETTO:+0200
TZNAME:CEST
DTSTART:20250330T010000
END:DAYLIGHT
BEGIN:STANDARD
TZOFFSETFROM:+0200
TZOFFSETTO:+0100
TZNAME:CET
DTSTART:20251026T010000
END:STANDARD
END:VTIMEZONE
BEGIN:VEVENT
DTSTART;TZID=Europe/Berlin:20251212T190000
DTEND;TZID=Europe/Berlin:20251212T190000
DTSTAMP:20260426T051209
CREATED:20251211T233804Z
LAST-MODIFIED:20260203T112059Z
UID:20987-1765566000-1765566000@sujetverlag.de
SUMMARY:Konzert und Lesung mit Alvaro Solar
DESCRIPTION:Álvaro Solar präsentiert gemeinsam mit seinem Ensemble eine szenische und musikalische Reise\, die Klang und Atmosphäre auf einzigartige Weise verbindet.\nIm Mittelpunkt stehen zwei seiner Bücher:\n„Socken\, Lügen und Wein“ (Sujet Verlag)und„Metamorphose“ (Hirnkost Verlag).\n\nBeide Werke werden in einer Mischung aus Lesung\, Spiel und Musik lebendig – ein Abend\, der nicht nur gehört oder gesehen\, sondern wirklich erlebt werden will.\nEintritt: 10 €\n\nReservierung: 0421 703737\nDie Veranstaltung findet im Rahmen des Projekts „Andersheit 2025“ statt und wird ermöglicht durch die freundliche Unterstützung vieler wunderbarer Menschen.
URL:https://sujetverlag.de/event/konzert-und-lesung-mit-alvaro-solar-sujet-verlag-bremen/
LOCATION:Sujet Verlag\, Bornstraße 18\, Bremen\, Bremen\, 28195\, Deutschland
END:VEVENT
END:VCALENDAR