BEGIN:VCALENDAR
VERSION:2.0
PRODID:-//Sujet Verlag - ECPv5.14.1//NONSGML v1.0//EN
CALSCALE:GREGORIAN
METHOD:PUBLISH
X-WR-CALNAME:Sujet Verlag
X-ORIGINAL-URL:https://sujetverlag.de
X-WR-CALDESC:Veranstaltungen für Sujet Verlag
REFRESH-INTERVAL;VALUE=DURATION:PT1H
X-Robots-Tag:noindex
X-PUBLISHED-TTL:PT1H
BEGIN:VTIMEZONE
TZID:Europe/Berlin
BEGIN:DAYLIGHT
TZOFFSETFROM:+0100
TZOFFSETTO:+0200
TZNAME:CEST
DTSTART:20230326T010000
END:DAYLIGHT
BEGIN:STANDARD
TZOFFSETFROM:+0200
TZOFFSETTO:+0100
TZNAME:CET
DTSTART:20231029T010000
END:STANDARD
END:VTIMEZONE
BEGIN:VEVENT
DTSTART;TZID=Europe/Berlin:20230818T180000
DTEND;TZID=Europe/Berlin:20230818T193000
DTSTAMP:20260424T211820
CREATED:20230801T134754Z
LAST-MODIFIED:20230807T084003Z
UID:16935-1692381600-1692387000@sujetverlag.de
SUMMARY:Zweisprachige Lesung "Als der Krieg zu Ende war\, brachte der Frieden die Menschen um" mit Garous Abdolmalekian in Köln
DESCRIPTION:Wir freuen uns sehr auf die zweisprachige Lesung von „Als der Krieg zu Ende war\, brachte der Frieden die Menschen um” mit Garous Abdolmalekian am Freitag\, den 18. August 2023 in der Fliehkraft. Abdolmalekian liest aus einer Auswahl seiner Gedichte\, die Jutta Himmelreich ins Deutsche übersetzt hat und die im Jahr 2021 im Sujet Verlag veröffentlicht wurde. Die Übersetzerin Jutta Himmelreich wird anwesend sein. Die Veranstaltung ist eine Kooperation des Sujet Verlages mit der Fliehkraft.\nAbdolmalekian ist ein wichtiger Gegenwartslyriker und eine kritische Stimme der jungen Generation. Er erhielt vor kurzem den Literaturpreis Roddi in Italien als ein beeinflussender Dichter. Momentan ist er auf einem Poesiefestival in Südfrankreich. \nZeit: Freitag\, den 18. August 2023 um 18:00Uhr \nOrt: Fliehkraft \nTurmstraße 3–5 \n50733 Köln
URL:https://sujetverlag.de/event/zweisprachige-lesung-als-der-krieg-zu-ende-war-brachte-der-frieden-die-menschen-um-mit-garous-abdolmalekian-in-koeln/
LOCATION:Fliehkraft\, Turmstraße 5\, Köln\, Nordrhein-Westfalen\, 50733\, Deutschland
CATEGORIES:Lesung
ATTACH;FMTTYPE=image/png:https://sujetverlag.de/wp-content/uploads/2023/07/Garous-Cover-3D.png
ORGANIZER;CN="Sujet%20Verlag":MAILTO:kontakt@sujet-verlag.de
END:VEVENT
BEGIN:VEVENT
DTSTART;TZID=Europe/Berlin:20230823T190000
DTEND;TZID=Europe/Berlin:20230823T210000
DTSTAMP:20260424T211820
CREATED:20230731T144300Z
LAST-MODIFIED:20230823T091152Z
UID:16898-1692817200-1692824400@sujetverlag.de
SUMMARY:Zweisprachige Lesung "Als der Krieg zu Ende war\, brachte der Frieden die Menschen um" mit Garous Abdolmalekian in Bremen
DESCRIPTION:Wir freuen uns sehr auf die zweisprachige Lesung von „Als der Krieg zu Ende war\, brachte der Frieden die Menschen um” mit Garous Abdolmalekian am Mittwoch\, den 23. August 2023 im Sujet Salon-Text‚n Art. Abdolmalekian liest aus einer Auswahl seiner Gedichte\, die Jutta Himmelreich ins Deutsche übersetzt hat und die im Jahr 2021 im Sujet Verlag veröffentlicht wurde. Die Veranstaltung wird von Dr. Inge Buck moderiert. Die Übersetzerin Jutta Himmelreich wird anwesend sein. Die Veranstaltung ist eine Kooperation des Sujet Verlages mit dem Bremer Literaturkontor e.V. und dem Verein West-Östlicher Diwan: interkultureller Austausch e.V.\nAbdolmalekian ist ein wichtiger Gegenwartslyriker und eine kritische Stimme der jungen Generation. Er erhielt vor kurzem den Literaturpreis Roddi in Italien als ein beeinflussender Dichter. Momentan ist er auf einem Poesiefestival in Südfrankreich. \nZeit: Mittwoch\, den 23. August 2023 um 19:00Uhr \nOrt: Sujet Verlag \nBornstraße 18 \n28195 Bremen
URL:https://sujetverlag.de/event/zweisprachige-lesung-als-der-krieg-zuende-war-brachte-der-frieden-die-menschen-um-mit-garous-abdolmalekian/
LOCATION:Sujet Verlag\, Bornstraße 18\, Bremen\, Bremen\, 28195\, Deutschland
CATEGORIES:Lesung
ATTACH;FMTTYPE=image/png:https://sujetverlag.de/wp-content/uploads/2023/07/Garous-Cover-3D.png
ORGANIZER;CN="Sujet%20Verlag":MAILTO:kontakt@sujet-verlag.de
END:VEVENT
BEGIN:VEVENT
DTSTART;TZID=Europe/Berlin:20230825T193000
DTEND;TZID=Europe/Berlin:20230825T193000
DTSTAMP:20260424T211820
CREATED:20230804T094639Z
LAST-MODIFIED:20230804T100322Z
UID:16995-1692991800-1692991800@sujetverlag.de
SUMMARY:Juan Andrés García Román beim 22. Internationalen Literaturfest "Poetische Quellen 2023" in Bad Oeynhausen
DESCRIPTION:Am Freitag\, den 25. August\, gibt es einen Lyrik-Abend unter dem Motto „Poesie ist die Welt\, die Menschheit”\, bei dem unter anderen Juan Andrés García Román mit seinem Buch „Prophezeiung nach der Natur” dabei sein wird. Die Veranstaltung findet in der Ev. Auferstehungskirche am Kurpark (Von-Moeller-Straße 1a\, 32545 Bad Oeynhausen) statt und beginnt um 19:30 Uhr. Der Einlass ist ab 19 Uhr. \nModeriert wird die Veranstaltung von Jürgen Keimer. Die Gespräche werden von Hildegard E. Keller übersetzt. Sylvia Wempner und Thomas Streipert sind Sprecherin und Sprecher. \nDie Veranstaltung ist eine Zusammenarbeit zwischen der Emmaus-Kirchengemeinde Bad Oeynhausen und dem 22. Internationalen Literaturfest „Poetischen Quellen 2023”. \nDer Band „Prophezeiung nach der Natur” wurde von Piero Salabè übersetzt und ist 2022 im Sujet Verlag erschienen. Er bietet eine einzigartige Einführung in das Werk einer der maßgeblichen Stimmen der spanischen Poesie unserer Zeit und enthält eine Auswahl von 50 Gedichten aus García Románs Gesamtwerk.
URL:https://sujetverlag.de/event/lyrik-abend-mit-juan-andres-garcia-roman/
LOCATION:Ev. Auferstehungskirche am Kurpark\, Von-Moeller-Straße 1a\, Bad Oeynhausen\, Nordrhein-Westfalen\, 32545\, Deutschland
CATEGORIES:Lesung
ATTACH;FMTTYPE=image/png:https://sujetverlag.de/wp-content/uploads/2023/08/Juan_Andres_Garcia_Roman_prohezeiung-nach-der-natur_SC_450x450px-3.png
END:VEVENT
END:VCALENDAR