BEGIN:VCALENDAR
VERSION:2.0
PRODID:-//Sujet Verlag - ECPv5.14.1//NONSGML v1.0//EN
CALSCALE:GREGORIAN
METHOD:PUBLISH
X-WR-CALNAME:Sujet Verlag
X-ORIGINAL-URL:https://sujetverlag.de
X-WR-CALDESC:Veranstaltungen fĂĽr Sujet Verlag
REFRESH-INTERVAL;VALUE=DURATION:PT1H
X-Robots-Tag:noindex
X-PUBLISHED-TTL:PT1H
BEGIN:VTIMEZONE
TZID:Europe/Berlin
BEGIN:DAYLIGHT
TZOFFSETFROM:+0100
TZOFFSETTO:+0200
TZNAME:CEST
DTSTART:20230326T010000
END:DAYLIGHT
BEGIN:STANDARD
TZOFFSETFROM:+0200
TZOFFSETTO:+0100
TZNAME:CET
DTSTART:20231029T010000
END:STANDARD
END:VTIMEZONE
BEGIN:VEVENT
DTSTART;TZID=Europe/Berlin:20231007T190000
DTEND;TZID=Europe/Berlin:20231007T200000
DTSTAMP:20260424T235829
CREATED:20230912T083136Z
LAST-MODIFIED:20230928T103656Z
UID:17227-1696705200-1696708800@sujetverlag.de
SUMMARY:Funun Festival mit Jabbar Abdullah
DESCRIPTION:Am 7. Oktober kommt Jabbar Abdullah im Zuge des Funun Festivals nach Bremen\, um aus seinem Buch â€žRaqqa am Rheinâ€ť zu lesen\, welches 2020 bei uns erschienen ist. \nDer syrische Autor und ArchĂ¤ologe Jabbar musste Ende 2012 mit damals 24 Jahren aus seiner Heimatstadt Raqqa zunĂ¤chst nach Alexandria fliehen\, wo er seinen Master machte. 2014 kam er nach KĂ¶ln\, wo er seitdem lebt. ZusĂ¤tzlich zu seiner Arbeit im RĂ¶misch-Germanischen Museum ist er aktiv in der syrisch-deutschen Kulturszene. Er kuratiert Kunstausstellungen und Literaturfestivals\, engagiert sich fĂĽr Kulturaustausch und erfolgreiche Integration und ist MitbegrĂĽnder und zweiter Vorsitzender des Vereins 17_3_17\, der den Austausch deutscher und syrischer Kultur fĂ¶rdert.  \nâ€žRaqqa am Rheinâ€ť\, das 2020 erschien\, ist sein erstes Buch. Es ist eine autobiografische ErzĂ¤hlung ĂĽber Aufbruch und Ankunft\, ĂĽber zerstĂ¶rte FreiheitstrĂ¤ume und hoffnungsvolle NeuanfĂ¤nge. Im Zentrum stehen zunĂ¤chst die Erinnerungen an seine Kindheit in einem Dorf nahe der nordsyrischen Stadt Raqqa und an seine Jugend im Zeichen der Diktatur. Der Autor beschreibt die ersten friedlichen Proteste 2011 an der UniversitĂ¤t von Aleppo sowie deren brutale Niederschlagung durch das Assad-RĂ©gime. Authentische Augenzeugenberichte bieten ungeschĂ¶nte Einblicke in die skrupellosen Methoden der syrischen Geheimdienste wie auch in das Leben unter der WillkĂĽrherrschaft des IS\, der Raqqa 2014 besetzte. Doch Abdullah berichtet auch ĂĽber seine neue Heimat Deutschland. Detailliert und humorvoll beschreibt er die ersten Schritte in einer zunĂ¤chst fremden Gesellschaft und Sprache. Dabei hinterfragt der Autor die landlĂ¤ufigen Konzepte von Integration und Herkunft\, reflektiert den Freiheitsbegriff und hĂ¤lt auch manch ĂĽberraschenden Perspektivwechsel bereit.  \nDie Lesung\, mit musikalischer Begleitung von Aladdin Haddad\, wird in der Villa Ichon in Bremen stattfinden. \nDer Eintritt fĂĽr die Veranstaltung ist frei!
URL:https://sujetverlag.de/event/funun-festival-mit-jabbar-abdullah/
LOCATION:Villa Ichon\, Goethplatz 4\, Bremen\, 28203
ATTACH;FMTTYPE=image/jpeg:https://sujetverlag.de/wp-content/uploads/2022/05/JabbarAbdullah-scaled.jpg
ORGANIZER;CN="Sujet%20Verlag":MAILTO:kontakt@sujet-verlag.de
END:VEVENT
BEGIN:VEVENT
DTSTART;TZID=Europe/Berlin:20231011T190000
DTEND;TZID=Europe/Berlin:20231011T200000
DTSTAMP:20260424T235829
CREATED:20230912T084655Z
LAST-MODIFIED:20230925T103026Z
UID:17231-1697050800-1697054400@sujetverlag.de
SUMMARY:AuslĂ¤nder auf der SĂĽdterrasse â€“ Lesung mit Amir Shaheen
DESCRIPTION:Sujet-Autor Amir Shaheen streift quer durch sein Werk und prĂ¤sentiert nachdenkliche wie auch satirische und heitere Texte aus seinen BĂĽchern.\nAmir Shaheen stellt seine BĂĽcher regelmĂ¤Ăźig in Bremen vor und begeistert mit seinen lebendigen Lesungen das Publikum. Erstmal liest er nun in den neuen RĂ¤umlichkeiten des Sujet Verlags. Unter dem Motto â€žAuslĂ¤nder auf der SĂĽdterrasseâ€ś streift der KĂ¶lner Schriftsteller quer durch sein Werk und prĂ¤sentiert satirische\, heitere wie auch nachdenkliche Texte\, insbesondere aus seinem erfolgreichen Buch â€žIch bin kein AuslĂ¤nder\, ich heiĂźe nur soâ€ś und dem beliebten Umzugsbuch â€žNoch zweimal einpacken bis SĂĽdterrasseâ€ś. Aber auch pointierte Kolumnen und Lyrik werden zu hĂ¶ren sein. Und mitunter erfĂĽllt der Autor auch HĂ¶rerwĂĽnscheâ€¦ \nDie Lesung wird am 11. Oktober bei uns im Sujet Salon Textâ€™n Art stattfinden. \nEintritt auf Spendenbasis!
URL:https://sujetverlag.de/event/auslaender-auf-der-suedterrasse-lesung-mit-amir-shaheen/
LOCATION:Sujet Verlag\, BornstraĂźe 18\, Bremen\, Bremen\, 28195\, Deutschland
CATEGORIES:Lesung
ATTACH;FMTTYPE=image/jpeg:https://sujetverlag.de/wp-content/uploads/2021/07/Amir-Shaheen_Portraet_2020_SW-1-e1652690579738.jpg
ORGANIZER;CN="Sujet%20Verlag":MAILTO:kontakt@sujet-verlag.de
END:VEVENT
BEGIN:VEVENT
DTSTART;VALUE=DATE:20231018
DTEND;VALUE=DATE:20231023
DTSTAMP:20260424T235829
CREATED:20230912T093642Z
LAST-MODIFIED:20230912T093828Z
UID:17238-1697587200-1698019199@sujetverlag.de
SUMMARY:Frankfurter Buchmesse 2023
DESCRIPTION:Wir freuen uns dieses Jahr wieder auf der Frankfurter Buchmesse sein zu dĂĽrfen! \nDie Frankfurter Buchmesse findet dieses Jahr vom 18.â€“22. Oktober statt. In dieser Zeit kĂ¶nnt ihr uns in Halle 3.1 am Stand D91\, gegenĂĽber der Leseinsel der unabhĂ¤ngigen Verlage\, finden. \nWir werden unsere Neuerscheinungen mitbringen und freuen uns schon euch alle zu treffen! \nTickets kĂ¶nnt ihr ab sofort auf der Webseite der Frankfurter Buchmesse bekommen: https://www.buchmesse.de/
URL:https://sujetverlag.de/event/frankfurter-buchmesse-2023/
LOCATION:Frankfurter Buchmesse\, Halle 3.1 B99\, Ludwig-Erhard-Anlage 1\, Frankfurt am Main\, Hessen\, 60327\, Deutschland
ATTACH;FMTTYPE=image/png:https://sujetverlag.de/wp-content/uploads/2023/09/80821_FBM-Logo-2023-SLO-DT-CMYK-RED-GRAY-PDF.png
END:VEVENT
BEGIN:VEVENT
DTSTART;TZID=Europe/Berlin:20231019T123000
DTEND;TZID=Europe/Berlin:20231019T125500
DTSTAMP:20260424T235829
CREATED:20231002T114158Z
LAST-MODIFIED:20231002T114158Z
UID:17290-1697718600-1697720100@sujetverlag.de
SUMMARY:Lesung mit Nassir Djafari auf der Frankfurter Buchmesse 2023
DESCRIPTION:WĂ¤hrend der Frankfurter Buchmesse wird Nassir Djafari am Donnerstag am Stand des Hessischen Literaturrats aus seinem Buch â€žMahtabâ€ť lesen. \nNassir Djafari wurde 1952 im Iran geboren und war in verschiedenen Funktionen in der deutschen und internationalen Entwicklungszusammenarbeit tĂ¤tig. \nâ€žMahtabâ€ť ist Djafaris zweiter Roman\, der im Sujet Verlag verĂ¶ffentlicht wurde. \nDas Buch erzĂ¤hlt die Geschichte von Mahtab und ihrer Familie\, die in den 1950er Jahren aus dem Iran nach Frankfurt eingewandert sind. Der Leser begleitet sie 10 Jahre nach ihrer Einwanderung\, wie sie versuchen sich ein Leben in der politisch und gesellschaftlich turbulenten Zeit aufzubauen.
URL:https://sujetverlag.de/event/lesung-mit-nassir-djafari-auf-der-frankfurter-buchmesse-2023/
LOCATION:Frankfurter Buchmesse\, Halle 3.1 B99\, Ludwig-Erhard-Anlage 1\, Frankfurt am Main\, Hessen\, 60327\, Deutschland
CATEGORIES:Lesung
ATTACH;FMTTYPE=image/png:https://sujetverlag.de/wp-content/uploads/2022/05/Nassir-Djafari_Mahtab_450x450px-01.png
ORGANIZER;CN="Hessischer%20Literaturrat%20e.V.":MAILTO:info@hessischer-literaturrat.de
END:VEVENT
BEGIN:VEVENT
DTSTART;TZID=Europe/Berlin:20231021T130000
DTEND;TZID=Europe/Berlin:20231021T131500
DTSTAMP:20260424T235829
CREATED:20231002T134644Z
LAST-MODIFIED:20231002T134644Z
UID:17292-1697893200-1697894100@sujetverlag.de
SUMMARY:"99 zerstreute Perlen" Buchvorstellung auf der Frankfurter Buchmesse
DESCRIPTION:Halim Youssef wird am Samstag auf der Frankfurter Buchmesse sein neues Buch â€ž99 zerstreute Perlenâ€ť prĂ¤sentieren\, dass dieses Jahr bei uns im Sujet Verlag erschienen ist. \nHalim Youssef ist kurdischer Schriftsteller\, in Syrien geboren und er lebt seit 2000 in Deutschland. Er hat viele BĂĽcher\, sechs davon sind Romane. Bislang wurden seine Werke auf Kurdisch\, Arabisch\, TĂĽrkisch\, Persisch\, Englisch und Deutsch verĂ¶ffentlicht. \nSein neuer Roman â€ž99 zerstreute Perlenâ€ś handelt von Azados dramatischer Lebensgeschichte\, die anhand des Bildes â€ž99 zerstreuten Perlenâ€ś illustriert wird. Der ErzĂ¤hler beschreibt das Schicksal der FlĂĽchtlinge in den Auffangzentren im Jahr 2015. \nDie Lesung findet am Stand des Kurdistan Regional Government\, Ministry of Culture and Youth statt\, in der Halle 5.1 Stand B47.
URL:https://sujetverlag.de/event/99-zerstreute-perlen-buchvorstellung-auf-der-frankfurter-buchmesse/
LOCATION:Frankfurter Buchmesse\, Halle 3.1 B99\, Ludwig-Erhard-Anlage 1\, Frankfurt am Main\, Hessen\, 60327\, Deutschland
CATEGORIES:Frankfurter Buchmesse,Lesung
ATTACH;FMTTYPE=image/png:https://sujetverlag.de/wp-content/uploads/2023/08/Halim-Youssef_99-zerstreute-Perlen_Cover_3D_450.png
END:VEVENT
BEGIN:VEVENT
DTSTART;TZID=Europe/Berlin:20231021T170000
DTEND;TZID=Europe/Berlin:20231021T180000
DTSTAMP:20260424T235829
CREATED:20230927T083725Z
LAST-MODIFIED:20230927T083725Z
UID:17274-1697907600-1697911200@sujetverlag.de
SUMMARY:â€žIch bin kein AuslĂ¤nder\, ich heiĂźe nur soâ€ś - Lesung mit Amir Shaheen auf Usedom
DESCRIPTION:Nachdem Amir Shaheen am 11. Oktober zu uns nach Bremen kommt\, geht seine Reise weiter nach Usedom\, um auch da am 21. Oktober seine Werke vorzustellen. \nMit einem Streifzug durch seine Werke erzĂ¤hlt der Autor pointiert und geistreich von seiner Erfahrungen als deutscher Muttersprachler und Schriftsteller einen arabischen Namen zu tragen. Seiner Erlebnisse erzĂ¤hlt er unterhaltsam und amĂĽsant. Gleichzeitig lĂ¤dt er dazu ein Schubladendenken und vermeintliche SelbstverstĂ¤ndlichkeiten nochmal kritisch zu hinterfragen und unsere Erwartungshaltungen und Vorurteile zu ĂĽberprĂĽfen. \nEintritt mit Usedom-Card frei!
URL:https://sujetverlag.de/event/ich-bin-kein-auslaender-ich-heisse-nur-so-lesung-mit-amir-shaheen-auf-usedom/
LOCATION:VeranstaltungsrĂ¤ume der Kurverwaltung\, HauptstraĂźe 31\, Koserow auf Usedom\, 17459
ATTACH;FMTTYPE=image/jpeg:https://sujetverlag.de/wp-content/uploads/2023/05/Amir-Shaheen-c-Gabriele-Kuhn-SW.jpg
ORGANIZER;CN="Kurverwaltung%20Koserow":MAILTO:info@seebad-koserow.de
END:VEVENT
BEGIN:VEVENT
DTSTART;TZID=Europe/Berlin:20231022T133000
DTEND;TZID=Europe/Berlin:20231022T140000
DTSTAMP:20260424T235829
CREATED:20231012T091625Z
LAST-MODIFIED:20231012T091656Z
UID:17342-1697981400-1697983200@sujetverlag.de
SUMMARY:Lesung - "FlĂĽchtlingscafĂ©" Nahid Keshavarz
DESCRIPTION:Am Sonntag kommt unsere Autorin Nahid Keshavarz auf die Frankfurter Buchmesse\, um aus ihrer Anthologie â€žFlĂĽchtlingscafĂ©â€ť zu lesen. \nDie Lesung wird auf dem zentralen Platz auf der Frankfurter Buchmesse\, am Stand von Amnesty International\, stattfinden. \nDie Anthologie FlĂĽchtlingscafĂ© ist eine Sammlung wundersamer Alltags-Geschichten von unterschiedlichen Menschen. Im Vordergrund des Buches steht das Leben als Migrant mit all seinen Schmerzen\, seiner Freude und seiner Leidenschaft. Die ErzĂ¤hlungen von Nahid Keshavarz lassen den Leser in den Alltag und die Gedanken von unterschiedlichsten Charakteren schlĂĽpfen. Die ErzĂ¤hlungen handeln von Ehepaaren\, die mit Kommunikationsproblemen hadern\, den BrĂĽchen gesellschaftlicher Konventionen\, der Auseinandersetzung mit dem sozialen Medium â€žFacebookâ€ť sowie von kulturellen MissverstĂ¤ndnissen. Ohne mit einer schweren Sprache zu erdrĂĽcken\, zeigt die Autorin durch ihre verschiedenen Charaktere zahlreiche Facetten von Menschen\, die nicht mehr in ihrem Heimatland leben kĂ¶nnen. Nicht zuletzt schafft sie es\, die Geschichten so realistisch rĂĽberzubringen\, dass man sich beim Lesen in einem gesprĂ¤chigen CafĂ© wiederfinden kann.\n\nDas Buch wurde aus dem Persischen ĂĽbersetzt von Monika Matzke.
URL:https://sujetverlag.de/event/lesung-fluechtlingscafe-nahid-keshavarz-2/
LOCATION:Frankfurter Buchmesse\, Ludwig-Erhard-Anlage 1\, Frankfurt am Main\, Hessen\, 60327\, Deutschland
CATEGORIES:Frankfurter Buchmesse,Lesung
ATTACH;FMTTYPE=image/jpeg:https://sujetverlag.de/wp-content/uploads/2018/10/fb.jpg
END:VEVENT
BEGIN:VEVENT
DTSTART;TZID=Europe/Berlin:20231027T190000
DTEND;TZID=Europe/Berlin:20231027T200000
DTSTAMP:20260424T235830
CREATED:20230912T102559Z
LAST-MODIFIED:20231002T134230Z
UID:17244-1698433200-1698436800@sujetverlag.de
SUMMARY:Lesung mit Inge Buck und Madjid Mohit
DESCRIPTION:Madjid Mohit und Inge Buck lesen aus ihrem gemeinsamen Lyrikband â€žDie Welt ist ein Septembertagâ€ť\nZwei Lyrikstimmen im poetischen Dialog: Gedichte und Schriftzeichen auf Deutsch und auf Persisch von Inge Buck und Madjid Mohit. In der GegenĂĽberstellung der Gedichte begegnen sich auf besondere Weise lyrische Muster. Es sind unter anderem Motive zu Zeit\, Angst und Traum\, zu Augenblick\, Ferne und Freiheit die sich auf den Seiten des Gedichtbandes zweisprachig gegenĂĽberstehen. Der lyrische Dialog zwischen den Gedichten von Madjid Mohit und Inge Buck steht zugleich in einem Spannungsfeld zwischen westlicher und Ă¶stlicher Welt\, zwischen Fremdheit und Vertrautheit\, NĂ¤he und Ferne\, konnotiert von den eigenen kulturellen und biografischen Erfahrungen. Ein Abenteuer der Begegnung in Wort\, Text und Schrift. \nEs lesen Inge Buck\, Madjid Mohit und Cornelius Kopf-Finke. Musikalisch begleitet von Otto Maier auf der Hang. \nEintritt: Zahle was du kannst!
URL:https://sujetverlag.de/event/lesung-mit-inge-buck-und-madjid-mohit/
LOCATION:Villa Sponte\, Osterdeich 59B\, Bremen\, 28203\, Deutschland
CATEGORIES:Lesung
ATTACH;FMTTYPE=image/png:https://sujetverlag.de/wp-content/uploads/2023/01/3D_-Buck_Mohit_Die-Welt-ist-ein-Septembertag_450x450px-01.png
ORGANIZER;CN="Sujet%20Verlag":MAILTO:kontakt@sujet-verlag.de
END:VEVENT
BEGIN:VEVENT
DTSTART;TZID=Europe/Berlin:20231031T180000
DTEND;TZID=Europe/Berlin:20231031T190000
DTSTAMP:20260424T235830
CREATED:20231012T085616Z
LAST-MODIFIED:20231012T085616Z
UID:17340-1698775200-1698778800@sujetverlag.de
SUMMARY:DoÄźan Akhanli - Gedenkveranstaltung
DESCRIPTION:An seinem zweiten Todestag wollen wir unserem wertgeschĂ¤tzten Autor DoÄźan Akhanli gedenken.\nWir lesen aus seinem Werk â€žMadonnas letzter Traumâ€ś\, das 2019 im Sujet Verlag erschienen ist und ein\nperfektes Beispiel darstellt\, wie Akhanli Genozide des 20. Jahrhunderts auf eine grandiose literarische Art\nbearbeitet. AuĂźerdem haben wir die Ehre\, Ausschnitte aus dem noch unverĂ¶ffentlichten Roman â€žSankofaâ€ś\nvorstellen zu dĂĽrfen\, der bisher noch von Recai HallaĂ§ ĂĽbersetzt wird und 2024 bei uns erscheinen\nwird. \nDoÄźan AkhanlÄ±\, 1957 in der TĂĽrkei geboren und im Oktober 2021 in Berlin gestorben\, hat zahlreiche Romane\nund ein TheaterstĂĽck verfasst. 1991 kam er als politischer FlĂĽchtling nach Deutschland. Seit 1992\nlebte er in KĂ¶ln\, spĂ¤ter in Berlin. Sein Kernthema ist die Auseinandersetzung mit den Genoziden des 20.\nJahrhunderts. Aufgrund seiner politischen Haltung war er mehrfach in der TĂĽrkei inhaftiert und zuletzt\naufgrund eines tĂĽrkischen Haftbefehls 2017 in Spanien\, worĂĽber er das Buch â€žVerhaftung in Granadaâ€ś\nschrieb. \n2013 erhielt er den Pfarrer-Georg-Fritze-Preis in KĂ¶ln\, 2018 den EuropĂ¤ischen Toleranzpreis in Ă–sterreich\nund 2019 wurde ihm die Goethe-Medaille verliehen. â€žDie Tage ohne Vaterâ€ś und â€žMadonnas letzter Traumâ€ś\nzĂ¤hlen zu seinen wichtigsten RomanverĂ¶ffentlichung. \n  \nEintritt auf Spendenbasis!
URL:https://sujetverlag.de/event/dogan-akhanli-gedenkveranstaltung/
LOCATION:Sujet Verlag\, BornstraĂźe 18\, Bremen\, Bremen\, 28195\, Deutschland
CATEGORIES:Gedenkveranstaltung,Lesung
ATTACH;FMTTYPE=image/jpeg:https://sujetverlag.de/wp-content/uploads/2019/05/Foto-f.-Pressemappe-Akhanli-SW-scaled-e1651220877874.jpg
ORGANIZER;CN="Sujet%20Verlag":MAILTO:kontakt@sujet-verlag.de
END:VEVENT
END:VCALENDAR