BEGIN:VCALENDAR
VERSION:2.0
PRODID:-//Sujet Verlag - ECPv5.14.1//NONSGML v1.0//EN
CALSCALE:GREGORIAN
METHOD:PUBLISH
X-WR-CALNAME:Sujet Verlag
X-ORIGINAL-URL:https://sujetverlag.de
X-WR-CALDESC:Veranstaltungen für Sujet Verlag
REFRESH-INTERVAL;VALUE=DURATION:PT1H
X-Robots-Tag:noindex
X-PUBLISHED-TTL:PT1H
BEGIN:VTIMEZONE
TZID:Europe/Berlin
BEGIN:DAYLIGHT
TZOFFSETFROM:+0100
TZOFFSETTO:+0200
TZNAME:CEST
DTSTART:20250330T010000
END:DAYLIGHT
BEGIN:STANDARD
TZOFFSETFROM:+0200
TZOFFSETTO:+0100
TZNAME:CET
DTSTART:20251026T010000
END:STANDARD
END:VTIMEZONE
BEGIN:VEVENT
DTSTART;TZID=Europe/Berlin:20250213T180000
DTEND;TZID=Europe/Berlin:20250213T210000
DTSTAMP:20260420T102423
CREATED:20250211T114052Z
LAST-MODIFIED:20250213T082009Z
UID:20129-1739469600-1739480400@sujetverlag.de
SUMMARY:Lyrische Bruchstücke - Annäherung an das Gilgamesch-Epos & Fotoausstellung mit Ernst Günther Weber
DESCRIPTION:West-östlicher Diwan e.V.\n“… zwischen den Welten schwebend…”\ngelesen von Inge Buck\, Gunther Gerlach und Cornelius Kopf-Finke \nModeration: Johannes Feest \nMusik: Otto Maier (auf der Hang) & Dieter Weische (auf der Shakuhachi / Bambusflöte) \n \nDas Gilgamesch-Epos ist eine der ältesten literarischen Niederschriften\, die Jahrtausende überdauert hat. Sie gehört zu den großen Geschichten der Menschheit. Es schildert bruchstückhaft auf 12 ausgegrabenen Keilschrifttafeln den Weg des Königs Gilgamesch in der historischen Stadt Uruk im heutigen Irak. Obwohl fast 4000 Jahre alt\, ist das Gilgamesch Epos immer noch hochaktuell. Es bringt uns die grundlegenden Fragen nach Selbstsuche\, Fremdheit\, Zweifel\, Freundschaft\, Kampf und Sterblichkeit näher und berichtet noch vor der biblischen Beschreibung von dem Ereignis der Sintflut. Die hymnische Erzählung hat Inge Buck und Gunther Gerlach\, zu dem Versuch einer lyrischen Annäherung angeregt. Passagen aus dem übersetzten Original werden gelesen und in eigenen Gedichten gespiegelt und frei weitererzählt. \n \nFotoausstellung mit Ernst Günther Weber\n \n \nErnst Günther Weber lebte als Außenhandelskaufmann von 1956 bis 1971 in Baghdad\, Irak. Als Autor veröffentlichte er bisher ein numismatisches\, international angesehenes und mehrfach zitiertes Werk „Arabo-Sasanidische Drachmen” und zahlreiche Aufsätze über bis dahin uneditierte islamische Münzen in numismatischen Fachzeitschriften. Außerdem publizierte er autobiografische Berichte in seinem Buch „Ausflug in den Bürgerkrieg und andere Erlebnisse”.
URL:https://sujetverlag.de/event/lyrische-bruchstuecke-annaeherung-an-das-gilgamesch-epos/
LOCATION:Sujet Verlag\, Bornstrasse 18\, Bremen\, Bremen\, Deutschland
ATTACH;FMTTYPE=image/png:https://sujetverlag.de/wp-content/uploads/2025/02/2.png
ORGANIZER;CN="West-%C3%B6stlicher%20Diwan%20e.V.":MAILTO:kontakt@westoestlicherdiwan.com
END:VEVENT
BEGIN:VEVENT
DTSTART;TZID=Europe/Berlin:20250223T170000
DTEND;TZID=Europe/Berlin:20250223T210000
DTSTAMP:20260420T102423
CREATED:20250211T100738Z
LAST-MODIFIED:20250211T100738Z
UID:20114-1740330000-1740344400@sujetverlag.de
SUMMARY:Lesung & Gespräch mit Atef Abu Saif über «Leben in der Schwebe» in Zürich
DESCRIPTION:Am Sonntag\, den 23. Februar stellt Atef Abu Saif in Zürich im Café Palestine deinen Roman „Leben in der Schwebe“ vor. Bevor die Lesung um\, 18 Uhr beginnt\, laden wir euch herzlichst zu einem Essen mit palästinensischen Gerichten ein. \n\nDer etwa 60 jährige Naîm ist Inhaber eines Copy-Shops\, in dem Poster von Gefallenen („Märtyrern“) produziert werden. Als er im Jahr 2011 durch einen Blindgänger getötet wird\, entsteht zwischen seinem Sohn Salmân\, und seinem Neffen Nasr\, eine Debatte\, ob Naîm Held oder Opfer ist – eine Grundsatzdebatte\, die das ganze Buch durchzieht.\nSpäter kommt es zu heftigen Zusammenstößen zwischen der Bevölkerung des Lagers und der Gaza-Verwaltung\, als es um die Bebauung des Hügels geht\, auf dem u.a. Naîms Haus steht. Diese Zusammenstöße zeigen den Versuch der Gesellschaft\, sich gegen die wachsende Machtclique zu wehren\, die sich nicht scheut\, auch die Religion mittels mehr oder weniger Gewalt in ihre Dienste zu nehmen.\n\n\n\nDer Roman ist ein interessantes und eindrucksvolles „Dokument“ des Palästina-„Problems“ vom besonderen Blickwinkel des Gazastreifens aus. \nMehr Informationen zur Veranstaltung findet ihrhier!
URL:https://sujetverlag.de/event/lesung-gespraech-mit-atef-abu-saif-ueber-leben-in-der-schwebe-in-zuerich/
LOCATION:Quartierzentrum Schütze\, Eingang C Heinrichstrasse 238\, Zürich beim Escher-Wyss-Platz vis-à-vis Tramhaltestellen 4/13/17\, 8005\, Schweiz
ATTACH;FMTTYPE=image/png:https://sujetverlag.de/wp-content/uploads/2025/02/Instagram-Post-Veranstaltung-Cafe-Palestine-mit-Atef-Abu-Saif-Leben-in-der-Schwebe.png
END:VEVENT
BEGIN:VEVENT
DTSTART;TZID=Europe/Berlin:20250225T193000
DTEND;TZID=Europe/Berlin:20250225T213000
DTSTAMP:20260420T102423
CREATED:20250211T094608Z
LAST-MODIFIED:20250211T095019Z
UID:20105-1740511800-1740519000@sujetverlag.de
SUMMARY:Lesung & Gespräch - Atef Abu Saif: "Leben in der Schwebe" in der Buchhandlung mille et deux feuilles
DESCRIPTION:In der Buchhandlung mille et deux feuilles in Zürich findet am Dienstag\, den 25. Februar eine Veranstaltung statt. Um 19:30 Uhr wird Atef Abu Saif eine Lesung zu seinem Roman „Leben in der Schwebe“ halten. \nModeriert wird von Monika Bolliger. \nDie Lesung an sich wird auf Deutsch gehalten\, das Gespräch danach wird auf Englisch geführt. \n\nDer etwa 60 jährige Naîm ist Inhaber eines Copy-Shops\, in dem Poster von Gefallenen („Märtyrern“) produziert werden. Als er im Jahr 2011 durch einen Blindgänger getötet wird\, entsteht zwischen seinem Sohn Salmân\, und seinem Neffen Nasr\, eine Debatte\, ob Naîm Held oder Opfer ist – eine Grundsatzdebatte\, die das ganze Buch durchzieht.\nSpäter kommt es zu heftigen Zusammenstößen zwischen der Bevölkerung des Lagers und der Gaza-Verwaltung\, als es um die Bebauung des Hügels geht\, auf dem u.a. Naîms Haus steht. Diese Zusammenstöße zeigen den Versuch der Gesellschaft\, sich gegen die wachsende Machtclique zu wehren\, die sich nicht scheut\, auch die Religion mittels mehr oder weniger Gewalt in ihre Dienste zu nehmen.\n\n\n\nDer Roman ist ein interessantes und eindrucksvolles „Dokument“ des Palästina-„Problems“ vom besonderen Blickwinkel des Gazastreifens aus. \nWeitere Informationen zur Veranstaltung findet ihrhier.
URL:https://sujetverlag.de/event/lesung-gespraech-atef-abu-saif-leben-in-der-schwebe-in-der-buchhandlung-mille-et-deux-feuilles/
LOCATION:Buchhandlung mille et deux feuilles\, Glasmalergasse 6\, Zürich\, 8004\, Schweiz
ATTACH;FMTTYPE=image/png:https://sujetverlag.de/wp-content/uploads/2025/02/Instagram-Post-Buchhandlung-mille-et-deux-feuilles.png
ORGANIZER;CN="Buchhandlung%20mille%20et%20deux%20feuilles":MAILTO:info@milleetdeuxfeuilles.ch
END:VEVENT
BEGIN:VEVENT
DTSTART;TZID=Europe/Berlin:20250226T190000
DTEND;TZID=Europe/Berlin:20250226T210000
DTSTAMP:20260420T102423
CREATED:20250211T092628Z
LAST-MODIFIED:20250211T105825Z
UID:20097-1740596400-1740603600@sujetverlag.de
SUMMARY:Lesung & Gespräch mit Atef Abu Saif über "Leben in der Schwebe" in Bern
DESCRIPTION:Atef Abu Saif wird mit seinem Roman „Leben in der Schwebe“ am 26. Februar zwischen 19 und 21 Uhr im Le Cap in Bern anzutreffen sein. Moderiert wiird die Lesung von dem Übersetzer seines Romans: Hartmut Fähndrich. \nDie Lesung an sich wird auf Deutsch gehalten\, das Gespräch danach wird auf Englisch geführt. \n \nDer etwa 60 jährige Naîm ist Inhaber eines Copy-Shops\, in dem Poster von Gefallenen („Märtyrern“) produziert werden. Als er im Jahr 2011 durch einen Blindgänger getötet wird\, entsteht zwischen seinem Sohn Salmân\, und seinem Neffen Nasr\, eine Debatte\, ob Naîm Held oder Opfer ist – eine Grundsatzdebatte\, die das ganze Buch durchzieht.\nSpäter kommt es zu heftigen Zusammenstößen zwischen der Bevölkerung des Lagers und der Gaza-Verwaltung\, als es um die Bebauung des Hügels geht\, auf dem u.a. Naîms Haus steht. Diese Zusammenstöße zeigen den Versuch der Gesellschaft\, sich gegen die wachsende Machtclique zu wehren\, die sich nicht scheut\, auch die Religion mittels mehr oder weniger Gewalt in ihre Dienste zu nehmen.\n\n\n\nDer Roman ist ein interessantes und eindrucksvolles „Dokument“ des Palästina-„Problems“ vom besonderen Blickwinkel des Gazastreifens aus. \n\nMehr Informationen zur Veranstaltung findet ihrhier. \n\n \n\n\n
URL:https://sujetverlag.de/event/lesung-gespraech-mit-atef-abu-saif-ueber-leben-in-der-schwebe-in-bern/
LOCATION:Le Cap\, Predigergasse 3\, Bern\, 3011\, Schweiz
ATTACH;FMTTYPE=image/png:https://sujetverlag.de/wp-content/uploads/2025/02/Instagram-Post-Bern-Veranstaltung-mit-Atef-Abu-Saif-Leben-in-der-Schwebe.png
ORGANIZER;CN="GFP-Verein%20Gerechtigkeit%20und%20Frieden%20in%20Pal%C3%A4stina":MAILTO:gfp@nahostfrieden.ch
END:VEVENT
END:VCALENDAR