BEGIN:VCALENDAR
VERSION:2.0
PRODID:-//Sujet Verlag - ECPv5.14.1//NONSGML v1.0//EN
CALSCALE:GREGORIAN
METHOD:PUBLISH
X-WR-CALNAME:Sujet Verlag
X-ORIGINAL-URL:https://sujetverlag.de
X-WR-CALDESC:Veranstaltungen für Sujet Verlag
REFRESH-INTERVAL;VALUE=DURATION:PT1H
X-Robots-Tag:noindex
X-PUBLISHED-TTL:PT1H
BEGIN:VTIMEZONE
TZID:Europe/Berlin
BEGIN:DAYLIGHT
TZOFFSETFROM:+0100
TZOFFSETTO:+0200
TZNAME:CEST
DTSTART:20250330T010000
END:DAYLIGHT
BEGIN:STANDARD
TZOFFSETFROM:+0200
TZOFFSETTO:+0100
TZNAME:CET
DTSTART:20251026T010000
END:STANDARD
END:VTIMEZONE
BEGIN:VEVENT
DTSTART;TZID=Europe/Berlin:20250404T183000
DTEND;TZID=Europe/Berlin:20250404T210000
DTSTAMP:20260420T133201
CREATED:20250211T103456Z
LAST-MODIFIED:20250211T104004Z
UID:20121-1743791400-1743800400@sujetverlag.de
SUMMARY:Lesung in Aachen mit Taufiq Suleman
DESCRIPTION:Am Freitag den 04. April um 18:30 Uhr wird Suleman Taufiq eine zweisprachige Lesung auf arabisch und deutsch halten. Diese Lesung gehört zum Programm von Lyrik der Welt\, veranstaltet von der Volkshochschule Aachen. \n \nSuleman Taufiq ist ein deutsch-syrischer Autor und als Lyriker\, Erzähler\, Musikkritiker\, Publizist\, Herausgeber und Übersetzer arabischer Literatur bekannt und lebt in Aachen.\n\nSein erster Gedichtband in deutscher Sprache erschien 1978. Neben Gedichten\, Romanen\, Erzählungen und Essays schreibt er Geschichten für Kinder und übersetzt arabische Werke ins Deutsche sowie zahlreiche deutsche Dichter ins Arabische. Darüber hinaus arbeitete er als Autor für Fernsehen und Radio\, u. a. für WDR\, hr\, SWR undDLR.\n\nHier geht’s zu seiner Kurzgeschichtensammlung „Josef hat Geburtstag” und zu seinem Gedichtband „Ich zähme die Hoffnung”.\n\n\nHier geht es zum vollen Programm der Lyrik der Welt!
URL:https://sujetverlag.de/event/lesung-in-aachen-mit-taufiq-suleman/
LOCATION:Couven-Museum\, Hühnermarkt 17\, Aachen\, Nordrhein- Westfalen\, 52062\, Deutschland
ATTACH;FMTTYPE=image/png:https://sujetverlag.de/wp-content/uploads/2025/02/Lesung-in-Aachen-mit-Taufiq-Suleman.png
ORGANIZER;CN="Volkshochschule%20Aachen":MAILTO:vhs@mail.aachen.de
END:VEVENT
BEGIN:VEVENT
DTSTART;TZID=Europe/Berlin:20250426T140000
DTEND;TZID=Europe/Berlin:20250426T200000
DTSTAMP:20260420T133201
CREATED:20250414T114646Z
LAST-MODIFIED:20250414T114646Z
UID:20382-1745676000-1745697600@sujetverlag.de
SUMMARY:Minlesung im Poesie-Cafe
DESCRIPTION:Am Samstag\, dem 26. April\, findet im UMZU in Bremen auf dem Hanseatenhof eine Lesung des Poesiecafés statt. Gelesen werden Texte und Gedichte in mehreren Sprachen. Dabei sind sowohl efahrene als auch neue Dichter*innen\, eine Poetry-Slammerin und eine Gruppe schreibender Jugendliche. \nDas Programm sieht wie folgtaus: \n15:00 – Lesung auf drei Sprachen mit Alev\, Lisa-Marie Klug\, Inge Buck und Madjid Mohit\n17:00 – Lesung mit Kina Lila und Jugendlichen aus dem Projekt „Sprache im Herzen” \nZusätzlich zur Lesung wird es auch Kaffee und Kuchen geben. Der Eintritt ist kostenlos.
URL:https://sujetverlag.de/event/minlesung-im-poesie-cafe/
LOCATION:UMZU Bremen\, Papenstraße 6\, Bremen\, Bremen\, 28195
ATTACH;FMTTYPE=image/png:https://sujetverlag.de/wp-content/uploads/2025/04/Ankuendigung-fuer-die-Mini-Lesung-im-Poesie-Cafe.png
END:VEVENT
BEGIN:VEVENT
DTSTART;TZID=Europe/Berlin:20250430T180000
DTEND;TZID=Europe/Berlin:20250430T210000
DTSTAMP:20260420T133201
CREATED:20250211T121844Z
LAST-MODIFIED:20250211T121844Z
UID:20141-1746036000-1746046800@sujetverlag.de
SUMMARY:Goethes West-östlicher Divan und der Diwan von Hafis
DESCRIPTION:West-östlicher Diwan e.V.\n“… zwischen den Welten schwebend…”\n\n\n mit Dr. Peter Ludwig\, Saarbrücken \nmoderiert von Prof. Dr. phil. Gert Sautermeister \n \nWest-östlicher Diwan e.V. zusammen mit der Goethe-Gesellschaft Bremen.  \nGewalt\, Terror\, Krieg – vielerorts erschöpfen sich aktuell Gesellschaften und Kulturen in haltlosem Zerstören und Vernichten. Völlig anders die literarische\, über Jahrhunderte hinweg gestiftete Begegnung zwischen dem großen persischen Dichter Hafis mit seinem Diwan (14. Jh.) und Goethe\, die in der Poesie seines West-östlichen Divan (1819/1827) Gestalt und Ausdruck gewinnt. Inzwischen gibt es seit dem Jahr 2000 in Weimar auch ein Hafis-Goethe-Denkmal\, das der Beziehung gewidmet ist und Ausgangspunkt des Vortrags sein wird. Im Mittelpunkt der Überlegungen stehen die eigenartige Begegnung des östlichen und westlichen Dichters und Fragen nach ihren Impulsen\, auch mit Blick auf unsere Gegenwart.
URL:https://sujetverlag.de/event/goethes-west-oestlicher-divan-und-der-diwan-von-hafis/
LOCATION:Haus der Wissenschaft\, Kleiner Saal\, Sandstr. 4/5\, Bremen\, Bremen\, 28195\, Deutschland
ATTACH;FMTTYPE=image/png:https://sujetverlag.de/wp-content/uploads/2025/02/6.png
ORGANIZER;CN="West-%C3%B6stlicher%20Diwan%20e.V.":MAILTO:kontakt@westoestlicherdiwan.com
END:VEVENT
END:VCALENDAR